yeastRNASeq 0.0.3 J. Bullard
 | Snapshot Date: 2010-09-24 00:28:34 -0700 (Fri, 24 Sep 2010) |  | URL: https://hedgehog.fhcrc.org/bioc-data/trunk/experiment/pkgs/yeastRNASeq |  | Last Changed Rev: 1107 / Revision: 1309 |  | Last Changed Date: 2010-01-15 12:01:16 -0800 (Fri, 15 Jan 2010) |  
  | wilson1  | Linux (openSUSE 11.1) / x86_64  |  OK  |  OK  |  | 
| liverpool  | Windows Server 2003 R2 (32-bit) / x64  |  OK  |  OK  |  OK  | 
| pelham  | Mac OS X Leopard (10.5.8) / i386  |  OK  |  OK  | [ OK ] | 
                INSTALLATION WITH 'R CMD INSTALL --preclean --library=yeastRNASeq.buildbin-libdir yeastRNASeq_0.0.3.tar.gz'
* installing *source* package ‘yeastRNASeq’ ...
** data
** inst
** help
*** installing help indices
** building package indices ...
** testing if installed package can be loaded
* DONE (yeastRNASeq)