HIVcDNAvantWout03 1.2.3 Chris Fraley
 | Snapshot Date: 2010-09-24 00:28:34 -0700 (Fri, 24 Sep 2010) |  | URL: https://hedgehog.fhcrc.org/bioc-data/trunk/experiment/pkgs/HIVcDNAvantWout03 |  | Last Changed Rev: 959 / Revision: 1309 |  | Last Changed Date: 2009-09-10 11:19:18 -0700 (Thu, 10 Sep 2009) |  
  | wilson1  | Linux (openSUSE 11.1) / x86_64  |  OK  |  OK  |  | 
| liverpool  | Windows Server 2003 R2 (32-bit) / x64  |  OK  |  OK  | [ OK ] | 
| pelham  | Mac OS X Leopard (10.5.8) / i386  |  OK  |  OK  |  OK  | 
* installing *source* package 'HIVcDNAvantWout03' ...
** data
** inst
** help
*** installing help indices
** building package indices ...
Read 450000 items
Read 450000 items
** testing if installed package can be loaded
* MD5 sums
packaged installation of 'HIVcDNAvantWout03' as HIVcDNAvantWout03_1.2.3.zip
* DONE (HIVcDNAvantWout03)