| BicARE 1.6.0 Pierre Gestraud
 
 | Snapshot Date: 2010-10-04 11:22:20 -0700 (Mon, 04 Oct 2010) |  | URL: https://hedgehog.fhcrc.org/bioconductor/branches/RELEASE_2_6/madman/Rpacks/BicARE |  | Last Changed Rev: 46401 / Revision: 49923 |  | Last Changed Date: 2010-04-22 11:21:23 -0700 (Thu, 22 Apr 2010) | 
 | wilson1 | Linux (openSUSE 11.1) / x86_64 | OK | OK |  | 
| liverpool | Windows Server 2003 R2 (32-bit) / x64 | OK | OK | [ OK ] | 
| gewurz | Windows Server 2008 R2 Enterprise (64-bit) / x64 | OK | OK | OK | 
| pelham | Mac OS X Leopard (10.5.8) / i386 | OK | OK | OK | 
* installing *source* package 'BicARE' ...
  Using auto-selected zip option '--use-zip-data'
** libs
  making DLL ...
gcc -I"E:/biocbld/bbs-2.6-bioc/R/include"         -O3 -Wall  -std=gnu99 -c BicARE.c -o BicARE.o
BicARE.c: In function 'floc':
BicARE.c:439: warning: unused variable 'invk'
BicARE.c: In function 'action':
BicARE.c:270: warning: 'j' may be used uninitialized in this function
BicARE.c:270: warning: 'i' may be used uninitialized in this function
gcc -shared -s -static-libgcc -o BicARE.dll tmp.def BicARE.o -LE:/biocbld/bbs-2.6-bioc/R/bin -lR
installing to E:/biocbld/bbs-2.6-bioc/meat/BicARE.buildbin-libdir/BicARE/libs
  ... done
** R
** data
** inst
** preparing package for lazy loading
Welcome to Bioconductor
  Vignettes contain introductory material. To view, type
  'openVignette()'. To cite Bioconductor, see
  'citation("Biobase")' and for packages 'citation(pkgname)'.
Loading required package: annotate
Loading required package: AnnotationDbi
Loading required package: graph
** help
*** installing help indices
** building package indices ...
** testing if installed package can be loaded
* MD5 sums
packaged installation of 'BicARE' as BicARE_1.6.0.zip
* DONE (BicARE)