genomeIntervals 1.3.0 Julien Gagneur
 | Bioconductor Changelog |  | Snapshot Date: 2009-12-07 11:32:00 -0800 (Mon, 07 Dec 2009) |  | URL: https://hedgehog.fhcrc.org/bioconductor/trunk/madman/Rpacks/genomeIntervals |  | Last Changed Rev: 42686 / Revision: 43434 |  | Last Changed Date: 2009-10-27 16:45:24 -0700 (Tue, 27 Oct 2009) |  
  | wilson1  | Linux (openSUSE 11.1) / x86_64  |  OK  |  OK  |  | 
| liverpool  | Windows Server 2003 R2 (32-bit) / x64  |  OK  |  OK  | [ OK ] | 
| pitt  | Mac OS X Tiger (10.4.11) / i386  |  OK  |  OK  |  OK  | 
| pelham  | Mac OS X Leopard (10.5.8) / i386  |  OK  |  OK  |  OK  | 
* installing *source* package 'genomeIntervals' ...
** R
** data
** inst
** preparing package for lazy loading
Welcome to Bioconductor
  Vignettes contain introductory material. To view, type
  'openVignette()'. To cite Bioconductor, see
  'citation("Biobase")' and for packages 'citation(pkgname)'.
** help
*** installing help indices
** building package indices ...
** MD5 sums
packaged installation of 'genomeIntervals' as genomeIntervals_1.3.0.zip
* DONE (genomeIntervals)