| affy 1.25.2 Rafael A. Irizarry
 
 | Bioconductor Changelog |  | Snapshot Date: 2009-12-07 11:32:00 -0800 (Mon, 07 Dec 2009) |  | URL: https://hedgehog.fhcrc.org/bioconductor/trunk/madman/Rpacks/affy |  | Last Changed Rev: 42876 / Revision: 43434 |  | Last Changed Date: 2009-11-09 13:04:33 -0800 (Mon, 09 Nov 2009) | 
 | wilson1 | Linux (openSUSE 11.1) / x86_64 | OK | OK |  | 
| liverpool | Windows Server 2003 R2 (32-bit) / x64 | OK | OK | [ OK ] | 
| pitt | Mac OS X Tiger (10.4.11) / i386 | OK | OK | OK | 
| pelham | Mac OS X Leopard (10.5.8) / i386 | OK | OK | OK | 
* installing *source* package 'affy' ...
   **********************************************
   WARNING: this package has a configure script
         It probably needs manual configuration
   **********************************************
** libs
  making DLL ...
gcc -I"E:/biocbld/bbs-2.6-bioc/R/include" -DHAVE_ZLIB  -I"E:/biocbld/bbs-2.6-bioc/R/library/preprocessCore/include"     -O3 -Wall  -std=gnu99 -c chipbackground.c -o chipbackground.o
gcc -I"E:/biocbld/bbs-2.6-bioc/R/include" -DHAVE_ZLIB  -I"E:/biocbld/bbs-2.6-bioc/R/library/preprocessCore/include"     -O3 -Wall  -std=gnu99 -c getall_locations.c -o getall_locations.o
gcc -I"E:/biocbld/bbs-2.6-bioc/R/include" -DHAVE_ZLIB  -I"E:/biocbld/bbs-2.6-bioc/R/library/preprocessCore/include"     -O3 -Wall  -std=gnu99 -c mas5calls.c -o mas5calls.o
gcc -I"E:/biocbld/bbs-2.6-bioc/R/include" -DHAVE_ZLIB  -I"E:/biocbld/bbs-2.6-bioc/R/library/preprocessCore/include"     -O3 -Wall  -std=gnu99 -c rma2.c -o rma2.o
gcc -I"E:/biocbld/bbs-2.6-bioc/R/include" -DHAVE_ZLIB  -I"E:/biocbld/bbs-2.6-bioc/R/library/preprocessCore/include"     -O3 -Wall  -std=gnu99 -c rma_common.c -o rma_common.o
gcc -shared -s -o affy.dll tmp.def chipbackground.o getall_locations.o mas5calls.o rma2.o rma_common.o -lRzlib -LE:/biocbld/bbs-2.6-bioc/R/bin -lR
  ... done
** R
** data
** demo
** inst
** preparing package for lazy loading
Welcome to Bioconductor
  Vignettes contain introductory material. To view, type
  'openVignette()'. To cite Bioconductor, see
  'citation("Biobase")' and for packages 'citation(pkgname)'.
Creating a new generic function for "open" in "affy"
Creating a new generic function for "close" in "affy"
Creating a new generic function for "colnames" in "affy"
Creating a new generic function for "barplot" in "affy"
** help
*** installing help indices
** building package indices ...
** MD5 sums
packaged installation of 'affy' as affy_1.25.2.zip
* DONE (affy)