| Back to the "Multiple platform build/check report" | A B [C] D E F G H I J K L M N O P Q R S T U V W X Y Z | 
| Package 69/354 | Hostname | OS / Arch | BUILD | CHECK | BUILD BIN | |||||
| ChIPpeakAnno 1.3.1 Lihua Julie Zhu 
 | wilson1 | Linux (openSUSE 11.1) / x86_64 | ERROR | skipped | ||||||
| liverpool | Windows Server 2003 R2 (32-bit) / x64 | OK | OK | [ OK ] | ||||||
| pitt | Mac OS X Tiger (10.4.11) / i386 | ERROR | skipped | skipped | ||||||
| pelham | Mac OS X Leopard (10.5.8) / i386 | ERROR | skipped | skipped | 
| Package: ChIPpeakAnno | 
| Version: 1.3.1 | 
| Command: E:\biocbld\bbs-2.6-bioc\R\bin\R.exe CMD INSTALL --build --library=ChIPpeakAnno.buildbin-libdir ChIPpeakAnno_1.3.1.tar.gz | 
| StartedAt: 2009-12-07 18:57:44 -0800 (Mon, 07 Dec 2009) | 
| EndedAt: 2009-12-07 18:57:51 -0800 (Mon, 07 Dec 2009) | 
| EllapsedTime: 7.1 seconds | 
| RetCode: 0 | 
| Status: OK | 
| PackageFile: ChIPpeakAnno_1.3.1.zip | 
| PackageFileSize: 4.203 MiB | 
* installing *source* package 'ChIPpeakAnno' ... Using auto-selected zip option '--use-zip-data' ** R ** data ** inst ** help *** installing help indices ** building package indices ... ** MD5 sums packaged installation of 'ChIPpeakAnno' as ChIPpeakAnno_1.3.1.zip * DONE (ChIPpeakAnno)