| Back to the "Multiple platform build/check report" |
| Package 69/77 | Hostname | OS / Arch | BUILD | CHECK | BUILD BIN | ||||
| stjudem 1.2.2 Joern Toedling
| wilson2 | Linux (openSUSE 11.1) / x86_64 | OK | OK | |||||
| pitt | Mac OS X Tiger (10.4.11) / i386 | OK | OK | OK | |||||
| pelham | Mac OS X Leopard (10.5.8) / i386 | OK | OK | [ OK ] |
| Package: stjudem |
| Version: 1.2.2 |
| Command: /Users/biocbuild/BBS/utils/build-universal.sh stjudem_1.2.2.tar.gz /Library/Frameworks/R.framework/Versions/2.10/Resources/bin/R stjudem.buildbin-libdir |
| StartedAt: 2010-04-02 15:37:07 -0700 (Fri, 02 Apr 2010) |
| EndedAt: 2010-04-02 15:37:22 -0700 (Fri, 02 Apr 2010) |
| EllapsedTime: 15.2 seconds |
| RetCode: 0 |
| Status: OK |
| PackageFile: stjudem_1.2.2.tgz |
| PackageFileSize: 27.59 MiB |
INSTALLATION WITH 'R CMD INSTALL --preclean --library=stjudem.buildbin-libdir stjudem_1.2.2.tar.gz'
* installing *source* package ‘stjudem’ ...
** R
** data
** preparing package for lazy loading
** help
*** installing help indices
** building package indices ...
* DONE (stjudem)