| Back to the "Multiple platform build/check report" |
| Package 51/77 | Hostname | OS / Arch | BUILD | CHECK | BUILD BIN | ||||
| lungExpression 0.0.10 Robert Scharpf
| wilson2 | Linux (openSUSE 11.1) / x86_64 | OK | OK | |||||
| pitt | Mac OS X Tiger (10.4.11) / i386 | OK | OK | [ OK ] | |||||
| pelham | Mac OS X Leopard (10.5.8) / i386 | OK | OK | OK |
| Package: lungExpression |
| Version: 0.0.10 |
| Command: /Users/biocbuild/BBS/utils/build-universal.sh lungExpression_0.0.10.tar.gz /Library/Frameworks/R.framework/Versions/2.10/Resources/bin/R lungExpression.buildbin-libdir |
| StartedAt: 2010-04-02 15:34:41 -0700 (Fri, 02 Apr 2010) |
| EndedAt: 2010-04-02 15:34:45 -0700 (Fri, 02 Apr 2010) |
| EllapsedTime: 4.8 seconds |
| RetCode: 0 |
| Status: OK |
| PackageFile: lungExpression_0.0.10.tgz |
| PackageFileSize: 5.687 MiB |
INSTALLATION WITH 'R CMD INSTALL --preclean --library=lungExpression.buildbin-libdir lungExpression_0.0.10.tar.gz'
* installing *source* package ‘lungExpression’ ...
** data
** help
*** installing help indices
** building package indices ...
* DONE (lungExpression)