| Back to the "Multiple platform build/check report" |
| Package 28/77 | Hostname | OS / Arch | BUILD | CHECK | BUILD BIN | ||||
| golubEsets 1.4.7 Vince Carey
| wilson2 | Linux (openSUSE 11.1) / x86_64 | OK | OK | |||||
| pitt | Mac OS X Tiger (10.4.11) / i386 | OK | OK | OK | |||||
| pelham | Mac OS X Leopard (10.5.8) / i386 | OK | OK | [ OK ] |
| Package: golubEsets |
| Version: 1.4.7 |
| Command: /Users/biocbuild/BBS/utils/build-universal.sh golubEsets_1.4.7.tar.gz /Library/Frameworks/R.framework/Versions/2.10/Resources/bin/R golubEsets.buildbin-libdir |
| StartedAt: 2010-04-02 15:27:20 -0700 (Fri, 02 Apr 2010) |
| EndedAt: 2010-04-02 15:27:29 -0700 (Fri, 02 Apr 2010) |
| EllapsedTime: 8.8 seconds |
| RetCode: 0 |
| Status: OK |
| PackageFile: golubEsets_1.4.7.tgz |
| PackageFileSize: 8.006 MiB |
INSTALLATION WITH 'R CMD INSTALL --preclean --library=golubEsets.buildbin-libdir golubEsets_1.4.7.tar.gz'
* installing *source* package ‘golubEsets’ ...
** data
** help
*** installing help indices
** building package indices ...
* DONE (golubEsets)