| Back to the "Multiple platform build/check report" |
| Package 66/77 | Hostname | OS / Arch | BUILD | CHECK | BUILD BIN | ||||
| SNAData 1.8.1 Denise Scholtens
| wilson2 | Linux (openSUSE 11.1) / x86_64 | OK | OK | |||||
| pitt | Mac OS X Tiger (10.4.11) / i386 | OK | OK | OK | |||||
| pelham | Mac OS X Leopard (10.5.8) / i386 | OK | OK | [ OK ] |
| Package: SNAData |
| Version: 1.8.1 |
| Command: /Users/biocbuild/BBS/utils/build-universal.sh SNAData_1.8.1.tar.gz /Library/Frameworks/R.framework/Versions/2.10/Resources/bin/R SNAData.buildbin-libdir |
| StartedAt: 2010-04-02 15:36:43 -0700 (Fri, 02 Apr 2010) |
| EndedAt: 2010-04-02 15:36:45 -0700 (Fri, 02 Apr 2010) |
| EllapsedTime: 2.7 seconds |
| RetCode: 0 |
| Status: OK |
| PackageFile: SNAData_1.8.1.tgz |
| PackageFileSize: 137.1 KiB |
INSTALLATION WITH 'R CMD INSTALL --preclean --library=SNAData.buildbin-libdir SNAData_1.8.1.tar.gz'
* installing *source* package ‘SNAData’ ...
** R
** data
** inst
** preparing package for lazy loading
** help
*** installing help indices
** building package indices ...
* DONE (SNAData)