| Back to the "Multiple platform build/check report" |
| Package 56/77 | Hostname | OS / Arch | BUILD | CHECK | BUILD BIN | ||||
| MEEBOdata 1.0.0 Agnes Paquet
| wilson2 | Linux (openSUSE 11.1) / x86_64 | OK | OK | |||||
| pitt | Mac OS X Tiger (10.4.11) / i386 | OK | OK | [ OK ] | |||||
| pelham | Mac OS X Leopard (10.5.8) / i386 | OK | OK | OK |
| Package: MEEBOdata |
| Version: 1.0.0 |
| Command: /Users/biocbuild/BBS/utils/build-universal.sh MEEBOdata_1.0.0.tar.gz /Library/Frameworks/R.framework/Versions/2.10/Resources/bin/R MEEBOdata.buildbin-libdir |
| StartedAt: 2010-04-02 15:36:38 -0700 (Fri, 02 Apr 2010) |
| EndedAt: 2010-04-02 15:36:53 -0700 (Fri, 02 Apr 2010) |
| EllapsedTime: 14.5 seconds |
| RetCode: 0 |
| Status: OK |
| PackageFile: MEEBOdata_1.0.0.tgz |
| PackageFileSize: 6.9 MiB |
INSTALLATION WITH 'R CMD INSTALL --preclean --library=MEEBOdata.buildbin-libdir MEEBOdata_1.0.0.tar.gz'
* installing *source* package ‘MEEBOdata’ ...
** data
** inst
** help
*** installing help indices
** building package indices ...
* DONE (MEEBOdata)