| ppiStats 1.12.0 Tony Chiang
 
 | Snapshot Date: 2010-04-02 23:28:25 -0700 (Fri, 02 Apr 2010) |  | URL: https://hedgehog.fhcrc.org/bioconductor/branches/RELEASE_2_5/madman/Rpacks/ppiStats |  | Last Changed Rev: 42684 / Revision: 45705 |  | Last Changed Date: 2009-10-27 16:33:29 -0700 (Tue, 27 Oct 2009) | 
 | wilson2 | Linux (openSUSE 11.1) / x86_64 | OK | OK |  | 
| liverpool | Windows Server 2003 R2 (32-bit) / x64 | OK | [ OK ] | OK | 
| pitt | Mac OS X Tiger (10.4.11) / i386 | OK | OK | OK | 
| pelham | Mac OS X Leopard (10.5.8) / i386 | OK | OK | OK | 
* checking for working pdflatex ... OK
* using log directory 'E:/biocbld/bbs-2.5-bioc/meat/ppiStats.Rcheck'
* using R version 2.10.1 (2009-12-14)
* using session charset: ISO8859-1
* using option '--no-vignettes'
* checking for file 'ppiStats/DESCRIPTION' ... OK
* this is package 'ppiStats' version '1.12.0'
* checking package name space information ... OK
* checking package dependencies ... OK
* checking if this is a source package ... OK
* checking whether package 'ppiStats' can be installed ... OK
* checking package directory ... OK
* checking for portable file names ... OK
* checking DESCRIPTION meta-information ... OK
* checking top-level files ... OK
* checking index information ... OK
* checking package subdirectories ... OK
* checking R files for non-ASCII characters ... OK
* checking R files for syntax errors ... OK
* checking whether the package can be loaded ... OK
* checking whether the package can be loaded with stated dependencies ... OK
* checking whether the name space can be loaded with stated dependencies ... OK
* checking for unstated dependencies in R code ... OK
* checking S3 generic/method consistency ... OK
* checking replacement functions ... OK
* checking foreign function calls ... OK
* checking R code for possible problems ... OK
* checking Rd files ... NOTE
prepare_Rd: findAdjacent.Rd:27-29: Dropping empty section \examples
prepare_Rd: hgParams.Rd:39: Dropping empty section \references
prepare_Rd: hgParams.Rd:42-44: Dropping empty section \examples
prepare_Rd: hgTests.Rd:40: Dropping empty section \references
prepare_Rd: hgTests.Rd:43-45: Dropping empty section \examples
* checking Rd metadata ... OK
* checking Rd cross-references ... OK
* checking for missing documentation entries ... OK
* checking for code/documentation mismatches ... OK
* checking Rd \usage sections ... OK
* checking examples ... OK
* checking package vignettes in 'inst/doc' ... SKIPPED
* checking PDF version of manual ... OK
 
* install options are ' --no-html'
* installing *source* package 'ppiStats' ...
** R
** inst
** preparing package for lazy loading
Loading required package: GO.db
Loading required package: AnnotationDbi
Loading required package: Biobase
Welcome to Bioconductor
  Vignettes contain introductory material. To view, type
  'openVignette()'. To cite Bioconductor, see
  'citation("Biobase")' and for packages 'citation(pkgname)'.
Loading required package: DBI
Loading required package: RpsiXML
Loading required package: annotate
Loading required package: graph
Loading required package: RBGL
Loading required package: XML
Attaching package: 'XML'
	The following object(s) are masked from package:graph :
	 addNode 
Loading required package: hypergraph
Attaching package: 'hypergraph'
	The following object(s) are masked from package:AnnotationDbi :
	 head,
	 tail 
	The following object(s) are masked from package:utils :
	 head,
	 tail 
Loading required package: apComplex
Loading required package: Rgraphviz
Loading required package: grid
Attaching package: 'Rgraphviz'
	The following object(s) are masked from package:annotate :
	 toFile 
** help
*** installing help indices
** building package indices ...
** MD5 sums
* DONE (ppiStats)