| Back to the "Multiple platform build/check report" | A [B] C D E F G H I J K L M N O P Q R S T U V W X Y Z |
| Package 34/353 | Hostname | OS / Arch | BUILD | CHECK | BUILD BIN | ||||
| baySeq 1.0.0 Thomas J. Hardcastle
| wilson2 | Linux (openSUSE 11.1) / x86_64 | OK | OK | |||||
| liverpool | Windows Server 2003 R2 (32-bit) / x64 | OK | WARNINGS | OK | |||||
| pitt | Mac OS X Tiger (10.4.11) / i386 | OK | OK | OK | |||||
| pelham | Mac OS X Leopard (10.5.8) / i386 | OK | OK | [ OK ] |
| Package: baySeq |
| Version: 1.0.0 |
| Command: /Users/biocbuild/BBS/utils/build-universal.sh baySeq_1.0.0.tar.gz /Library/Frameworks/R.framework/Versions/2.10/Resources/bin/R baySeq.buildbin-libdir |
| StartedAt: 2010-04-03 07:24:48 -0700 (Sat, 03 Apr 2010) |
| EndedAt: 2010-04-03 07:24:50 -0700 (Sat, 03 Apr 2010) |
| EllapsedTime: 1.8 seconds |
| RetCode: 0 |
| Status: OK |
| PackageFile: baySeq_1.0.0.tgz |
| PackageFileSize: 188.1 KiB |
INSTALLATION WITH 'R CMD INSTALL --preclean --library=baySeq.buildbin-libdir baySeq_1.0.0.tar.gz'
* installing *source* package ‘baySeq’ ...
** R
** data
** inst
** preparing package for lazy loading
** help
*** installing help indices
** building package indices ...
* DONE (baySeq)