| Back to the "Multiple platform build/check report" | A B C D E F G H I J K L M N [O] P Q R S T U V W X Y Z |
| Package 231/353 | Hostname | OS / Arch | BUILD | CHECK | BUILD BIN | ||||
| occugene 1.6.0 Oliver Will
| wilson2 | Linux (openSUSE 11.1) / x86_64 | OK | OK | |||||
| liverpool | Windows Server 2003 R2 (32-bit) / x64 | OK | OK | [ OK ] | |||||
| pitt | Mac OS X Tiger (10.4.11) / i386 | OK | OK | OK | |||||
| pelham | Mac OS X Leopard (10.5.8) / i386 | OK | OK | OK |
| Package: occugene |
| Version: 1.6.0 |
| Command: E:\biocbld\bbs-2.5-bioc\R\bin\R.exe CMD INSTALL --build --library=occugene.buildbin-libdir occugene_1.6.0.tar.gz |
| StartedAt: 2009-12-14 07:10:35 -0800 (Mon, 14 Dec 2009) |
| EndedAt: 2009-12-14 07:10:40 -0800 (Mon, 14 Dec 2009) |
| EllapsedTime: 4.9 seconds |
| RetCode: 0 |
| Status: OK |
| PackageFile: occugene_1.6.0.zip |
| PackageFileSize: 108 KiB |
* installing *source* package 'occugene' ... ** R ** data ** inst ** preparing package for lazy loading ** help *** installing help indices ** building package indices ... ** MD5 sums packaged installation of 'occugene' as occugene_1.6.0.zip * DONE (occugene)