| Back to the "Multiple platform build/check report" | A B C [D] E F G H I J K L M N O P Q R S T U V W X Y Z |
| Package 89/353 | Hostname | OS / Arch | BUILD | CHECK | BUILD BIN | ||||
| daMA 1.18.0 Jobst Landgrebe
| wilson2 | Linux (openSUSE 11.1) / x86_64 | OK | OK | |||||
| liverpool | Windows Server 2003 R2 (32-bit) / x64 | OK | OK | OK | |||||
| pitt | Mac OS X Tiger (10.4.11) / i386 | OK | OK | OK | |||||
| pelham | Mac OS X Leopard (10.5.8) / i386 | OK | OK | [ OK ] |
| Package: daMA |
| Version: 1.18.0 |
| Command: /Users/biocbuild/BBS/utils/build-universal.sh daMA_1.18.0.tar.gz /Library/Frameworks/R.framework/Versions/2.10/Resources/bin/R daMA.buildbin-libdir |
| StartedAt: 2009-12-14 07:28:43 -0800 (Mon, 14 Dec 2009) |
| EndedAt: 2009-12-14 07:28:46 -0800 (Mon, 14 Dec 2009) |
| EllapsedTime: 3.1 seconds |
| RetCode: 0 |
| Status: OK |
| PackageFile: daMA_1.18.0.tgz |
| PackageFileSize: 4.044 MiB |
INSTALLATION WITH 'R CMD INSTALL --preclean --library=daMA.buildbin-libdir daMA_1.18.0.tar.gz'
* installing *source* package ‘daMA’ ...
** R
** data
** preparing package for lazy loading
** help
*** installing help indices
** building package indices ...
* DONE (daMA)