| Back to the "Multiple platform build/check report" | A B C D E F G H I J K L M N O P Q R [S] T U V W X Y Z |
| Package 316/353 | Hostname | OS / Arch | BUILD | CHECK | BUILD BIN | ||||
| SJava 0.72.0 Martin Morgan
| wilson2 | Linux (openSUSE 11.1) / x86_64 | [ OK ] | WARNINGS | |||||
| liverpool | Windows Server 2003 R2 (32-bit) / x64 | OK | ERROR | OK | |||||
| pitt | Mac OS X Tiger (10.4.11) / i386 | N O T S U P P O R T E D | |||||||
| pelham | Mac OS X Leopard (10.5.8) / i386 | N O T S U P P O R T E D | |||||||
| Package: SJava |
| Version: 0.72.0 |
| Command: /home/biocbuild/bbs-2.5-bioc/R/bin/R CMD build SJava |
| StartedAt: 2009-12-14 02:34:44 -0800 (Mon, 14 Dec 2009) |
| EndedAt: 2009-12-14 02:34:46 -0800 (Mon, 14 Dec 2009) |
| EllapsedTime: 1.5 seconds |
| RetCode: 0 |
| Status: OK |
| PackageFile: SJava_0.72.0.tar.gz |
| PackageFileSize: 2.108 MiB |
* checking for file 'SJava/DESCRIPTION' ... OK * preparing 'SJava': * checking DESCRIPTION meta-information ... OK * cleaning src * removing junk files * checking for LF line-endings in source and make files * checking for empty or unneeded directories * building 'SJava_0.72.0.tar.gz'