| Back to the "Multiple platform build/check report" | A B C D E F G H I J K L M N O P Q [R] S T U V W X Y Z |
| Package 275/353 | Hostname | OS / Arch | BUILD | CHECK | BUILD BIN | ||||
| Rdbi 1.20.0 Jianhua Zhang
| wilson2 | Linux (openSUSE 11.1) / x86_64 | OK | OK | |||||
| liverpool | Windows Server 2003 R2 (32-bit) / x64 | OK | OK | [ OK ] | |||||
| pitt | Mac OS X Tiger (10.4.11) / i386 | OK | OK | OK | |||||
| pelham | Mac OS X Leopard (10.5.8) / i386 | OK | OK | OK |
| Package: Rdbi |
| Version: 1.20.0 |
| Command: E:\biocbld\bbs-2.5-bioc\R\bin\R.exe CMD INSTALL --build --library=Rdbi.buildbin-libdir Rdbi_1.20.0.tar.gz |
| StartedAt: 2009-12-14 07:14:04 -0800 (Mon, 14 Dec 2009) |
| EndedAt: 2009-12-14 07:14:09 -0800 (Mon, 14 Dec 2009) |
| EllapsedTime: 4.6 seconds |
| RetCode: 0 |
| Status: OK |
| PackageFile: Rdbi_1.20.0.zip |
| PackageFileSize: 46.25 KiB |
* installing *source* package 'Rdbi' ... ** R ** preparing package for lazy loading ** help *** installing help indices ** building package indices ... ** MD5 sums packaged installation of 'Rdbi' as Rdbi_1.20.0.zip * DONE (Rdbi)