| Back to the "Multiple platform build/check report" | A [B] C D E F G H I J K L M N O P Q R S T U V W X Y Z |
| Package 57/353 | Hostname | OS / Arch | BUILD | CHECK | BUILD BIN | ||||
| BUS 1.2.0 Yin Jin
| wilson2 | Linux (openSUSE 11.1) / x86_64 | OK | OK | |||||
| liverpool | Windows Server 2003 R2 (32-bit) / x64 | OK | OK | [ OK ] | |||||
| pitt | Mac OS X Tiger (10.4.11) / i386 | OK | OK | OK | |||||
| pelham | Mac OS X Leopard (10.5.8) / i386 | OK | OK | OK |
| Package: BUS |
| Version: 1.2.0 |
| Command: E:\biocbld\bbs-2.5-bioc\R\bin\R.exe CMD INSTALL --build --library=BUS.buildbin-libdir BUS_1.2.0.tar.gz |
| StartedAt: 2009-12-14 06:59:23 -0800 (Mon, 14 Dec 2009) |
| EndedAt: 2009-12-14 06:59:26 -0800 (Mon, 14 Dec 2009) |
| EllapsedTime: 3.1 seconds |
| RetCode: 0 |
| Status: OK |
| PackageFile: BUS_1.2.0.zip |
| PackageFileSize: 277.4 KiB |
* installing *source* package 'BUS' ... ** R ** data ** inst ** preparing package for lazy loading Loading required package: infotheo ** help *** installing help indices ** building package indices ... ** MD5 sums packaged installation of 'BUS' as BUS_1.2.0.zip * DONE (BUS)