| Back to the "Multiple platform build/check report" |
| Package 37/65 | Hostname | OS / Arch | BUILD | CHECK | BUILD BIN | ||||
| humanStemCell 0.2.3 R. Gentleman
| wilson1 | Linux (openSUSE 11.1) / x86_64 | OK | ERROR | |||||
| liverpool | Windows Server 2003 R2 (32-bit) / x64 | OK | ERROR | OK | |||||
| pitt | Mac OS X Tiger (10.4.11) / i386 | OK | ERROR | OK | |||||
| pelham | Mac OS X Leopard (10.5.7) / i386 | [ OK ] | ERROR | OK |
| Package: humanStemCell |
| Version: 0.2.3 |
| Command: /Library/Frameworks/R.framework/Versions/2.9/Resources/bin/R CMD build humanStemCell |
| StartedAt: 2009-08-10 01:43:52 -0700 (Mon, 10 Aug 2009) |
| EndedAt: 2009-08-10 01:47:30 -0700 (Mon, 10 Aug 2009) |
| EllapsedTime: 217.2 seconds |
| RetCode: 0 |
| Status: OK |
| PackageFile: humanStemCell_0.2.3.tar.gz |
| PackageFileSize: 30.84 MiB |
* checking for file 'humanStemCell/DESCRIPTION' ... OK * preparing 'humanStemCell': * checking DESCRIPTION meta-information ... OK * removing junk files * checking for LF line-endings in source and make files * checking for empty or unneeded directories * building 'humanStemCell_0.2.3.tar.gz'