| Back to the "Multiple platform build/check report" |
| Package 19/65 | Hostname | OS / Arch | BUILD | CHECK | BUILD BIN | ||||
| fibroEset 1.4.3 Sylvia Merk
| wilson1 | Linux (openSUSE 11.1) / x86_64 | OK | ERROR | |||||
| liverpool | Windows Server 2003 R2 (32-bit) / x64 | OK | ERROR | ERROR | |||||
| pitt | Mac OS X Tiger (10.4.11) / i386 | OK | ERROR | ERROR | |||||
| pelham | Mac OS X Leopard (10.5.7) / i386 | [ OK ] | ERROR | ERROR |
| Package: fibroEset |
| Version: 1.4.3 |
| Command: /Library/Frameworks/R.framework/Versions/2.9/Resources/bin/R CMD build fibroEset |
| StartedAt: 2009-08-10 01:30:14 -0700 (Mon, 10 Aug 2009) |
| EndedAt: 2009-08-10 01:30:20 -0700 (Mon, 10 Aug 2009) |
| EllapsedTime: 5.7 seconds |
| RetCode: 0 |
| Status: OK |
| PackageFile: fibroEset_1.4.3.tar.gz |
| PackageFileSize: 1.81 MiB |
* checking for file 'fibroEset/DESCRIPTION' ... OK * preparing 'fibroEset': * checking DESCRIPTION meta-information ... OK * removing junk files * checking for LF line-endings in source and make files * checking for empty or unneeded directories * building 'fibroEset_1.4.3.tar.gz'