| Back to the "Multiple platform build/check report" |
| Package 14/65 | Hostname | OS / Arch | BUILD | CHECK | BUILD BIN | ||||
| ecoliLeucine 1.2.4 Laurent Gautier
| wilson1 | Linux (openSUSE 11.1) / x86_64 | OK | ERROR | |||||
| liverpool | Windows Server 2003 R2 (32-bit) / x64 | OK | ERROR | OK | |||||
| pitt | Mac OS X Tiger (10.4.11) / i386 | [ OK ] | ERROR | OK | |||||
| pelham | Mac OS X Leopard (10.5.7) / i386 | OK | ERROR | OK |
| Package: ecoliLeucine |
| Version: 1.2.4 |
| Command: /Library/Frameworks/R.framework/Versions/2.9/Resources/bin/R CMD build ecoliLeucine |
| StartedAt: 2009-08-10 01:23:11 -0700 (Mon, 10 Aug 2009) |
| EndedAt: 2009-08-10 01:23:17 -0700 (Mon, 10 Aug 2009) |
| EllapsedTime: 5.8 seconds |
| RetCode: 0 |
| Status: OK |
| PackageFile: ecoliLeucine_1.2.4.tar.gz |
| PackageFileSize: 5.936 MiB |
* checking for file 'ecoliLeucine/DESCRIPTION' ... OK * preparing 'ecoliLeucine': * checking DESCRIPTION meta-information ... OK * removing junk files * checking for LF line-endings in source and make files * checking for empty or unneeded directories * building 'ecoliLeucine_1.2.4.tar.gz'