xmapbridge 1.2.0 Tim Yates
 | Bioconductor Changelog |  | Snapshot Date: 2009-10-20 11:27:33 -0700 (Tue, 20 Oct 2009) |  | URL: https://hedgehog.fhcrc.org/bioconductor/branches/RELEASE_2_4/madman/Rpacks/xmapbridge |  | Last Changed Rev: 39013 / Revision: 42512 |  | Last Changed Date: 2009-04-20 16:24:12 -0700 (Mon, 20 Apr 2009) |  
  | wilson1  | Linux (openSUSE 11.1) / x86_64  | [ OK ] |  OK  |  | 
| liverpool  | Windows Server 2003 R2 (32-bit) / x64  |  OK  |  OK  |  OK  | 
| pitt  | Mac OS X Tiger (10.4.11) / i386  |  OK  |  OK  |  OK  | 
| pelham  | Mac OS X Leopard (10.5.8) / i386  |  OK  |  OK  |  OK  | 
* checking for file 'xmapbridge/DESCRIPTION' ... OK
* preparing 'xmapbridge':
* checking DESCRIPTION meta-information ... OK
* installing the package to re-build vignettes
* Installing *source* package 'xmapbridge' ...
** R
** data
** inst
** preparing package for lazy loading
Creating a generic for "show" in package  "xmapbridge"
    (the supplied definition differs from and overrides the implicit generic in package "methods": Signatures differ:  (object), (object))
** help
*** installing help indices
 >>> Building/Updating help pages for package 'xmapbridge'
     Formats: text html latex example 
  exon.data                         text    html    latex
  xmap.col                          text    html    latex   example
  xmap.files                        text    html    latex   example
  xmap.plot                         text    html    latex   example
  xmapbridge-internal               text    html    latex
  xmapbridge-package                text    html    latex
** building package indices ...
* DONE (xmapbridge)
* creating vignettes ... OK
* removing junk files
* checking for LF line-endings in source and make files
* checking for empty or unneeded directories
* building 'xmapbridge_1.2.0.tar.gz'