oligoClasses 1.6.0 Benilton Carvalho
 | Bioconductor Changelog |  | Snapshot Date: 2009-10-20 11:27:33 -0700 (Tue, 20 Oct 2009) |  | URL: https://hedgehog.fhcrc.org/bioconductor/branches/RELEASE_2_4/madman/Rpacks/oligoClasses |  | Last Changed Rev: 39013 / Revision: 42512 |  | Last Changed Date: 2009-04-20 16:24:12 -0700 (Mon, 20 Apr 2009) |  
  | wilson1  | Linux (openSUSE 11.1) / x86_64  | [ OK ] |  OK  |  | 
| liverpool  | Windows Server 2003 R2 (32-bit) / x64  |  OK  |  OK  |  OK  | 
| pitt  | Mac OS X Tiger (10.4.11) / i386  |  OK  |  OK  |  OK  | 
| pelham  | Mac OS X Leopard (10.5.8) / i386  |  OK  |  OK  |  OK  | 
* checking for file 'oligoClasses/DESCRIPTION' ... OK
* preparing 'oligoClasses':
* checking DESCRIPTION meta-information ... OK
* installing the package to re-build vignettes
* Installing *source* package 'oligoClasses' ...
** R
** data
** inst
** preparing package for lazy loading
Welcome to Bioconductor
  Vignettes contain introductory material. To view, type
  'openVignette()'. To cite Bioconductor, see
  'citation("Biobase")' and for packages 'citation(pkgname)'.
** help
*** installing help indices
 >>> Building/Updating help pages for package 'oligoClasses'
     Formats: text html latex example 
  DBPDInfo-class                    text    html    latex
  FeatureSetExtensions-class        text    html    latex   example
  Index-methods                     text    html    latex   example
  PDInfo-methods                    text    html    latex   example
  QuantificationSet-class           text    html    latex   example
  Sequences-methods                 text    html    latex
  SnpCallSet-methods                text    html    latex
  SnpCallSetPlus-class              text    html    latex   example
  SnpCnvQSet-class                  text    html    latex   example
  SnpCopyNumberSet-methods          text    html    latex
  SnpLevelSet-class                 text    html    latex   example
  SnpQSet-class                     text    html    latex
  SnpQSet-methods                   text    html    latex
  SnpSetExtensions-class            text    html    latex
  affyPlatforms                     text    html    latex   example
  chromosome                        text    html    latex
  data-efsExample                   text    html    latex   example
  data-scqsExample                  text    html    latex   example
  data-sfsExample                   text    html    latex   example
  data-sqsExample                   text    html    latex   example
  db                                text    html    latex   example
  exprs-methods                     text    html    latex
  genomeBuild                       text    html    latex
  getPlatformDesign                 text    html    latex
  kind                              text    html    latex   example
  length-methods                    text    html    latex
  manufacturer-methods              text    html    latex
  oligoSnpSet-methods               text    html    latex
  platform-methods                  text    html    latex
  pmAllele                          text    html    latex
  pmFragmentLength-methods          text    html    latex
  pmPosition                        text    html    latex
  pmStrand                          text    html    latex
  position                          text    html    latex
  probeNames                        text    html    latex
  sampleNames-methods               text    html    latex
  snprmaSummaries                   text    html    latex
** building package indices ...
* DONE (oligoClasses)
* creating vignettes ... OK
* removing junk files
* checking for LF line-endings in source and make files
* checking for empty or unneeded directories
* building 'oligoClasses_1.6.0.tar.gz'