iterativeBMAsurv 1.2.0 Ka Yee Yeung
 | Bioconductor Changelog |  | Snapshot Date: 2009-10-20 11:27:33 -0700 (Tue, 20 Oct 2009) |  | URL: https://hedgehog.fhcrc.org/bioconductor/branches/RELEASE_2_4/madman/Rpacks/iterativeBMAsurv |  | Last Changed Rev: 39013 / Revision: 42512 |  | Last Changed Date: 2009-04-20 16:24:12 -0700 (Mon, 20 Apr 2009) |  
  | wilson1  | Linux (openSUSE 11.1) / x86_64  | [ OK ] |  OK  |  | 
| liverpool  | Windows Server 2003 R2 (32-bit) / x64  |  OK  |  OK  |  OK  | 
| pitt  | Mac OS X Tiger (10.4.11) / i386  |  OK  |  OK  |  OK  | 
| pelham  | Mac OS X Leopard (10.5.8) / i386  |  OK  |  OK  |  OK  | 
* checking for file 'iterativeBMAsurv/DESCRIPTION' ... OK
* preparing 'iterativeBMAsurv':
* checking DESCRIPTION meta-information ... OK
* installing the package to re-build vignettes
* Installing *source* package 'iterativeBMAsurv' ...
** R
** data
** inst
** preparing package for lazy loading
Loading required package: survival
Loading required package: splines
Loading required package: leaps
** help
*** installing help indices
 >>> Building/Updating help pages for package 'iterativeBMAsurv'
     Formats: text html latex example 
  crossVal                          text    html    latex   example
  imageplot.iterate.bma.surv        text    html    latex   example
  iterateBMAsurv.train              text    html    latex   example
  iterateBMAsurv.train.predict.asse text    html    latex   example
  iterateBMAsurv.train.wrapper      text    html    latex   example
  iterativeBMAsurv-internal         text    html    latex
  iterativeBMAsurv-package          text    html    latex   example
Note: removing empty section \note in file 'predictBicSurv.Rd'
  predictBicSurv                    text    html    latex   example
Note: removing empty section \note in file 'predictiveAssessCategory.Rd'
  predictiveAssessCategory          text    html    latex   example
Note: removing empty section \note in file 'printTopGenes.Rd'
  printTopGenes                     text    html    latex   example
Note: removing empty section \note in file 'singleGeneCoxph.Rd'
  singleGeneCoxph                   text    html    latex   example
Note: removing empty section \details in file 'testCens.Rd'
  testCens                          text    html    latex
  testData                          text    html    latex
Note: removing empty section \details in file 'testSurv.Rd'
  testSurv                          text    html    latex
Note: removing empty section \details in file 'trainCens.Rd'
  trainCens                         text    html    latex
  trainData                         text    html    latex
Note: removing empty section \details in file 'trainSurv.Rd'
  trainSurv                         text    html    latex
** building package indices ...
* DONE (iterativeBMAsurv)
* creating vignettes ... OK
* removing junk files
* checking for LF line-endings in source and make files
* checking for empty or unneeded directories
* building 'iterativeBMAsurv_1.2.0.tar.gz'