globaltest 4.14.0 Jelle Goeman
 | Bioconductor Changelog |  | Snapshot Date: 2009-10-20 11:27:33 -0700 (Tue, 20 Oct 2009) |  | URL: https://hedgehog.fhcrc.org/bioconductor/branches/RELEASE_2_4/madman/Rpacks/globaltest |  | Last Changed Rev: 39013 / Revision: 42512 |  | Last Changed Date: 2009-04-20 16:24:12 -0700 (Mon, 20 Apr 2009) |  
  | wilson1  | Linux (openSUSE 11.1) / x86_64  | [ OK ] |  OK  |  | 
| liverpool  | Windows Server 2003 R2 (32-bit) / x64  |  OK  |  OK  |  OK  | 
| pitt  | Mac OS X Tiger (10.4.11) / i386  |  OK  |  OK  |  OK  | 
| pelham  | Mac OS X Leopard (10.5.8) / i386  |  OK  |  OK  |  OK  | 
* checking for file 'globaltest/DESCRIPTION' ... OK
* preparing 'globaltest':
* checking DESCRIPTION meta-information ... OK
* installing the package to re-build vignettes
* Installing *source* package 'globaltest' ...
** R
** data
** inst
** preparing package for lazy loading
Creating a new generic function for "summary" in "globaltest"
Creating a new generic function for "fitted.values" in "globaltest"
Creating a new generic function for "residuals" in "globaltest"
** help
*** installing help indices
 >>> Building/Updating help pages for package 'globaltest'
     Formats: text html latex example 
  GOstructure                       text    html    latex
  annotation.vandeVijver            text    html    latex
  checkerboard                      text    html    latex   example
  geneplot                          text    html    latex   example
  globaltest                        text    html    latex   example
  gostructure.vandeVijver           text    html    latex
  gt.barplot-class                  text    html    latex
  gt.result-class                   text    html    latex
  gtGO                              text    html    latex   example
  mlogit                            text    html    latex   example
  multtest                          text    html    latex   example
  permutations                      text    html    latex   example
  regressionplot                    text    html    latex   example
  sampleplot                        text    html    latex   example
  sampling                          text    html    latex   example
  vandeVijver                       text    html    latex
** building package indices ...
* DONE (globaltest)
* creating vignettes ... OK
* removing junk files
* checking for LF line-endings in source and make files
* checking for empty or unneeded directories
* building 'globaltest_4.14.0.tar.gz'