flowFlowJo 1.2.0 John J. Gosink
 | Bioconductor Changelog |  | Snapshot Date: 2009-10-20 11:27:33 -0700 (Tue, 20 Oct 2009) |  | URL: https://hedgehog.fhcrc.org/bioconductor/branches/RELEASE_2_4/madman/Rpacks/flowFlowJo |  | Last Changed Rev: 39013 / Revision: 42512 |  | Last Changed Date: 2009-04-20 16:24:12 -0700 (Mon, 20 Apr 2009) |  
  | wilson1  | Linux (openSUSE 11.1) / x86_64  | [ OK ] |  OK  |  | 
| liverpool  | Windows Server 2003 R2 (32-bit) / x64  |  OK  |  OK  |  OK  | 
| pitt  | Mac OS X Tiger (10.4.11) / i386  |  OK  |  OK  |  OK  | 
| pelham  | Mac OS X Leopard (10.5.8) / i386  |  OK  |  OK  |  OK  | 
* checking for file 'flowFlowJo/DESCRIPTION' ... OK
* preparing 'flowFlowJo':
* checking DESCRIPTION meta-information ... OK
* installing the package to re-build vignettes
* Installing *source* package 'flowFlowJo' ...
** R
** inst
** preparing package for lazy loading
Scalable Robust Estimators with High Breakdown Point (version 1.0-00)
** help
*** installing help indices
 >>> Building/Updating help pages for package 'flowFlowJo'
     Formats: text html latex example 
  collectSummaryFlowInfo            text    html    latex   example
  createFlowReport                  text    html    latex   example
  flowFlowJo-package                text    html    latex   example
  flowJoCompensate-methods          text    html    latex
  getFlowJoGates                    text    html    latex   example
  getFlowJoSummary                  text    html    latex   example
  readFlowJoList                    text    html    latex   example
  simplifyGateNames                 text    html    latex   example
** building package indices ...
* DONE (flowFlowJo)
* creating vignettes ... OK
* removing junk files
* checking for LF line-endings in source and make files
* checking for empty or unneeded directories
* building 'flowFlowJo_1.2.0.tar.gz'