fdrame 1.16.0 Effi Kenigsberg
 | Bioconductor Changelog |  | Snapshot Date: 2009-10-20 11:27:33 -0700 (Tue, 20 Oct 2009) |  | URL: https://hedgehog.fhcrc.org/bioconductor/branches/RELEASE_2_4/madman/Rpacks/fdrame |  | Last Changed Rev: 39013 / Revision: 42512 |  | Last Changed Date: 2009-04-20 16:24:12 -0700 (Mon, 20 Apr 2009) |  
  | wilson1  | Linux (openSUSE 11.1) / x86_64  | [ OK ] |  OK  |  | 
| liverpool  | Windows Server 2003 R2 (32-bit) / x64  |  OK  |  OK  |  OK  | 
| pitt  | Mac OS X Tiger (10.4.11) / i386  |  OK  |  OK  |  OK  | 
| pelham  | Mac OS X Leopard (10.5.8) / i386  |  OK  |  OK  |  OK  | 
* checking for file 'fdrame/DESCRIPTION' ... OK
* preparing 'fdrame':
* checking DESCRIPTION meta-information ... OK
* cleaning src
* installing the package to re-build vignettes
* Installing *source* package 'fdrame' ...
** libs
gcc -std=gnu99 -I/home/biocbuild/bbs-2.4-bioc/R/include  -I/usr/local/include    -fpic  -g -O2 -Wall -c fdr.c -o fdr.o
gcc -std=gnu99 -shared -L/usr/local/lib64 -o fdrame.so fdr.o -L/home/biocbuild/bbs-2.4-bioc/R/lib -lR
** R
** data
** inst
** preparing package for lazy loading
Loading Tcl/Tk interface ... done
** help
*** installing help indices
 >>> Building/Updating help pages for package 'fdrame'
     Formats: text html latex example 
  design                            text    html    latex   example
  exp.arr                           text    html    latex   example
  fdr-internal                      text    html    latex
  fdrgui                            text    html    latex   example
  fdrma                             text    html    latex   example
** building package indices ...
* DONE (fdrame)
* creating vignettes ... OK
* cleaning src
* removing junk files
* checking for LF line-endings in source and make files
* checking for empty or unneeded directories
WARNING: Removing directory 'fdrame/html' which should only occur in an
  installed package
* building 'fdrame_1.16.0.tar.gz'