bioDist 1.16.0 Biocore Team c/o BioC user list
 | Bioconductor Changelog |  | Snapshot Date: 2009-10-20 11:27:33 -0700 (Tue, 20 Oct 2009) |  | URL: https://hedgehog.fhcrc.org/bioconductor/branches/RELEASE_2_4/madman/Rpacks/bioDist |  | Last Changed Rev: 39013 / Revision: 42512 |  | Last Changed Date: 2009-04-20 16:24:12 -0700 (Mon, 20 Apr 2009) |  
  | wilson1  | Linux (openSUSE 11.1) / x86_64  | [ OK ] |  OK  |  | 
| liverpool  | Windows Server 2003 R2 (32-bit) / x64  |  OK  |  OK  |  OK  | 
| pitt  | Mac OS X Tiger (10.4.11) / i386  |  OK  |  OK  |  OK  | 
| pelham  | Mac OS X Leopard (10.5.8) / i386  |  OK  |  OK  |  OK  | 
* checking for file 'bioDist/DESCRIPTION' ... OK
* preparing 'bioDist':
* checking DESCRIPTION meta-information ... OK
* installing the package to re-build vignettes
* Installing *source* package 'bioDist' ...
** R
** inst
** preparing package for lazy loading
Welcome to Bioconductor
  Vignettes contain introductory material. To view, type
  'openVignette()'. To cite Bioconductor, see
  'citation("Biobase")' and for packages 'citation(pkgname)'.
KernSmooth 2.23 loaded
Copyright M. P. Wand 1997-2009
** help
*** installing help indices
 >>> Building/Updating help pages for package 'bioDist'
     Formats: text html latex example 
  KLD.matrix                        text    html    latex   example
  KLdist.matrix                     text    html    latex   example
  closest.top                       text    html    latex   example
  cor.dist                          text    html    latex   example
Note: removing empty section \details in file 'euc.Rd'
  euc                               text    html    latex   example
  man                               text    html    latex   example
  mutualInfo                        text    html    latex   example
  spearman.dist                     text    html    latex   example
  tau.dist                          text    html    latex   example
** building package indices ...
* DONE (bioDist)
* creating vignettes ... OK
* removing junk files
* checking for LF line-endings in source and make files
* checking for empty or unneeded directories
* building 'bioDist_1.16.0.tar.gz'