affyPara 1.4.0 Markus Schmidberger
 | Bioconductor Changelog |  | Snapshot Date: 2009-10-20 11:27:33 -0700 (Tue, 20 Oct 2009) |  | URL: https://hedgehog.fhcrc.org/bioconductor/branches/RELEASE_2_4/madman/Rpacks/affyPara |  | Last Changed Rev: 39013 / Revision: 42512 |  | Last Changed Date: 2009-04-20 16:24:12 -0700 (Mon, 20 Apr 2009) |  
  | wilson1  | Linux (openSUSE 11.1) / x86_64  | [ OK ] |  OK  |  | 
| liverpool  | Windows Server 2003 R2 (32-bit) / x64  |  OK  |  OK  |  OK  | 
| pitt  | Mac OS X Tiger (10.4.11) / i386  |  OK  |  OK  |  OK  | 
| pelham  | Mac OS X Leopard (10.5.8) / i386  |  OK  |  OK  |  OK  | 
* checking for file 'affyPara/DESCRIPTION' ... OK
* preparing 'affyPara':
* checking DESCRIPTION meta-information ... OK
* installing the package to re-build vignettes
* Installing *source* package 'affyPara' ...
** R
** inst
** preparing package for lazy loading
Loading required package: Biobase
Welcome to Bioconductor
  Vignettes contain introductory material. To view, type
  'openVignette()'. To cite Bioconductor, see
  'citation("Biobase")' and for packages 'citation(pkgname)'.
** help
*** installing help indices
 >>> Building/Updating help pages for package 'affyPara'
     Formats: text html latex example 
  MAplotPara                        text    html    latex   example
  bgcPara                           text    html    latex   example
  boxplotPara                       text    html    latex   example
  class.vsnInputPara                text    html    latex
  computeExprSetPara                text    html    latex   example
  distributeFiles                   text    html    latex   example
  mergeSplitObjects                 text    html    latex   example
  normalizeAffyBatchConstantPara    text    html    latex   example
  normalizeAffyBatchInvariantsetPar text    html    latex   example
  normalizeAffyBatchLoessPara       text    html    latex   example
  normalizeAffyBatchLoessParaIter   text    html    latex   example
  normalizeAffyBatchQuantilesPara   text    html    latex   example
  preproPara                        text    html    latex   example
  removeDistributedFiles            text    html    latex   example
  rmaPara                           text    html    latex   example
  snowReplace                       text    html    latex   example
  split                             text    html    latex   example
  vsnPara                           text    html    latex   example
** building package indices ...
* DONE (affyPara)
* creating vignettes ... OK
* removing junk files
* checking for LF line-endings in source and make files
* checking for empty or unneeded directories
* building 'affyPara_1.4.0.tar.gz'