| Back to the "Multiple platform build/check report" | A B C D E F G H I J K L M N O P Q [R] S T U V W X Y Z | 
| Package 248/319 | Hostname | OS / Arch | BUILD | CHECK | BUILD BIN | |||||
| Rdbi 1.18.0 Jianhua Zhang 
  | wilson1 | Linux (openSUSE 11.1) / x86_64 | [ OK ] | OK | ||||||
| liverpool | Windows Server 2003 R2 (32-bit) / x64 | OK | OK | OK | ||||||
| pitt | Mac OS X Tiger (10.4.11) / i386 | OK | OK | OK | ||||||
| pelham | Mac OS X Leopard (10.5.8) / i386 | OK | OK | OK | 
| Package: Rdbi | 
| Version: 1.18.0 | 
| Command: /home/biocbuild/bbs-2.4-bioc/R/bin/R CMD build Rdbi | 
| StartedAt: 2009-10-20 13:25:49 -0700 (Tue, 20 Oct 2009) | 
| EndedAt: 2009-10-20 13:25:49 -0700 (Tue, 20 Oct 2009) | 
| EllapsedTime: 0.5 seconds | 
| RetCode: 0 | 
| Status: OK | 
| PackageFile: Rdbi_1.18.0.tar.gz | 
| PackageFileSize: 13.82 KiB | 
* checking for file 'Rdbi/DESCRIPTION' ... OK * preparing 'Rdbi': * checking DESCRIPTION meta-information ... OK * removing junk files * checking for LF line-endings in source and make files * checking for empty or unneeded directories * building 'Rdbi_1.18.0.tar.gz'