RbcBook1 1.12.0 Vince Carey
 | Bioconductor Changelog |  | Snapshot Date: 2009-10-20 11:27:33 -0700 (Tue, 20 Oct 2009) |  | URL: https://hedgehog.fhcrc.org/bioconductor/branches/RELEASE_2_4/madman/Rpacks/RbcBook1 |  | Last Changed Rev: 39013 / Revision: 42512 |  | Last Changed Date: 2009-04-20 16:24:12 -0700 (Mon, 20 Apr 2009) |  
  | wilson1  | Linux (openSUSE 11.1) / x86_64  | [ OK ] |  OK  |  | 
| liverpool  | Windows Server 2003 R2 (32-bit) / x64  |  OK  |  OK  |  OK  | 
| pitt  | Mac OS X Tiger (10.4.11) / i386  |  OK  |  OK  |  OK  | 
| pelham  | Mac OS X Leopard (10.5.8) / i386  |  OK  |  OK  |  OK  | 
* checking for file 'RbcBook1/DESCRIPTION' ... OK
* preparing 'RbcBook1':
* checking DESCRIPTION meta-information ... OK
* installing the package to re-build vignettes
* Installing *source* package 'RbcBook1' ...
** R
** data
** inst
** help
*** installing help indices
 >>> Building/Updating help pages for package 'RbcBook1'
     Formats: text html latex example 
  bcStangle                         text    html    latex   example
  bcSweave                          text    html    latex   example
  bcr                               text    html    latex   example
  checkVerbatimLines                text    html    latex   example
  imageSize                         text    html    latex   example
  perf                              text    html    latex   example
Note: removing empty section \arguments in file 'requireAllBook1.Rd'
  requireAllBook1                   text    html    latex   example
  rpart2gNEL                        text    html    latex   example
** building package indices ...
* DONE (RbcBook1)
* creating vignettes ... OK
* removing junk files
* checking for LF line-endings in source and make files
* checking for empty or unneeded directories
* building 'RbcBook1_1.12.0.tar.gz'