RWebServices 1.8.0 Martin Morgan
 | Bioconductor Changelog |  | Snapshot Date: 2009-10-20 11:27:33 -0700 (Tue, 20 Oct 2009) |  | URL: https://hedgehog.fhcrc.org/bioconductor/branches/RELEASE_2_4/madman/Rpacks/RWebServices |  | Last Changed Rev: 39013 / Revision: 42512 |  | Last Changed Date: 2009-04-20 16:24:12 -0700 (Mon, 20 Apr 2009) |  
  | wilson1  | Linux (openSUSE 11.1) / x86_64  | [ OK ] |  OK  |  | 
| liverpool  | Windows Server 2003 R2 (32-bit) / x64  | N O T   S U P P O R T E D | 
| pitt  | Mac OS X Tiger (10.4.11) / i386  | N O T   S U P P O R T E D | 
| pelham  | Mac OS X Leopard (10.5.8) / i386  | N O T   S U P P O R T E D | 
* checking for file 'RWebServices/DESCRIPTION' ... OK
* preparing 'RWebServices':
* checking DESCRIPTION meta-information ... OK
* cleaning src
* running cleanup
rm: cannot remove `config.log': No such file or directory
rm: cannot remove `config.status': No such file or directory
rm: cannot remove `inst/scripts/RWebServicesEnv.properties': No such file or directory
* installing the package to re-build vignettes
* Installing *source* package 'RWebServices' ...
Guessing SJava home: /tmp/Rinst1987490672/SJava
checking Java support in R... configure: creating ./config.status
config.status: creating inst/scripts/RWebServicesEnv.properties
config.status: creating src/Makevars
** libs
gcc -std=gnu99 -I/home/biocbuild/bbs-2.4-bioc/R/include -I/usr/lib64/jvm/java/include -I/usr/lib64/jvm/java/include/linux -I/usr/local/include    -fpic  -g -O2 -Wall -c RWebServicesConverters.c -o RWebServicesConverters.o
gcc -std=gnu99 -I/home/biocbuild/bbs-2.4-bioc/R/include -I/usr/lib64/jvm/java/include -I/usr/lib64/jvm/java/include/linux -I/usr/local/include    -fpic  -g -O2 -Wall -c init.c -o init.o
gcc -std=gnu99 -shared -L/usr/local/lib64 -o RWebServices.so RWebServicesConverters.o init.o -L/usr/lib64/jvm/java-1.6.0-sun-1.6.0/jre/lib/amd64/server -L/usr/lib64/jvm/java-1.6.0-sun-1.6.0/jre/lib/amd64 -L/usr/lib64/jvm/java-1.6.0-sun-1.6.0/jre/../lib/amd64 -L/usr/local/lib64 -L/usr/local/lib/root -L -L/usr/java/packages/lib/amd64 -L/lib -L/usr/lib -ljvm -L/home/biocbuild/bbs-2.4-bioc/R/lib -lR
/usr/lib64/gcc/x86_64-suse-linux/4.3/../../../../x86_64-suse-linux/bin/ld: skipping incompatible /usr/lib/libc.so when searching for -lc
/usr/lib64/gcc/x86_64-suse-linux/4.3/../../../../x86_64-suse-linux/bin/ld: skipping incompatible /usr/lib/libc.a when searching for -lc
** R
** inst
** preparing package for lazy loading
** help
*** installing help indices
 >>> Building/Updating help pages for package 'RWebServices'
     Formats: text html latex example 
  ArrayAndMatrix-class              text    html    latex   example
  FileReferences-class              text    html    latex   example
  FileReferences                    text    html    latex   example
  RJavaPkgFunctions-class           text    html    latex   example
  RJavaSignature-class              text    html    latex   example
  RWebServices.package              text    html    latex
  SinkOutput-class                  text    html    latex   example
  converters                        text    html    latex
  createMap                         text    html    latex   example
  generateDataMap                   text    html    latex   example
  generateDataTest                  text    html    latex   example
  generateFunctionMap               text    html    latex   example
  getRSessionInfo                   text    html    latex   example
  importDataCvt                     text    html    latex
  printLookup                       text    html    latex   example
  retrieve                          text    html    latex   example
  sinkSetup                         text    html    latex   example
  testUtils                         text    html    latex
  typeInfo2Java                     text    html    latex   example
  unpackAntScript                   text    html    latex   example
** building package indices ...
* DONE (RWebServices)
* creating vignettes ... OK
* cleaning src
make: Nothing to be done for `clean'.
* running cleanup
* removing junk files
* checking for LF line-endings in source and make files
* checking for empty or unneeded directories
WARNING: directory 'RWebServices/inst/cagrid/schemas' is empty
* building 'RWebServices_1.8.0.tar.gz'