RBioinf 1.4.0 Robert Gentleman
 | Bioconductor Changelog |  | Snapshot Date: 2009-10-20 11:27:33 -0700 (Tue, 20 Oct 2009) |  | URL: https://hedgehog.fhcrc.org/bioconductor/branches/RELEASE_2_4/madman/Rpacks/RBioinf |  | Last Changed Rev: 39013 / Revision: 42512 |  | Last Changed Date: 2009-04-20 16:24:12 -0700 (Mon, 20 Apr 2009) |  
  | wilson1  | Linux (openSUSE 11.1) / x86_64  | [ OK ] |  OK  |  | 
| liverpool  | Windows Server 2003 R2 (32-bit) / x64  |  OK  |  OK  |  OK  | 
| pitt  | Mac OS X Tiger (10.4.11) / i386  |  OK  |  OK  |  OK  | 
| pelham  | Mac OS X Leopard (10.5.8) / i386  |  OK  |  OK  |  OK  | 
* checking for file 'RBioinf/DESCRIPTION' ... OK
* preparing 'RBioinf':
* checking DESCRIPTION meta-information ... OK
* cleaning src
* installing the package to re-build vignettes
* Installing *source* package 'RBioinf' ...
** libs
gcc -std=gnu99 -I/home/biocbuild/bbs-2.4-bioc/R/include  -I/usr/local/include    -fpic  -g -O2 -Wall -c Rinit.c -o Rinit.o
gcc -std=gnu99 -I/home/biocbuild/bbs-2.4-bioc/R/include  -I/usr/local/include    -fpic  -g -O2 -Wall -c rand.c -o rand.o
rand.c: In function 'simpleRand':
rand.c:58: warning: statement with no effect
gcc -std=gnu99 -shared -L/usr/local/lib64 -o RBioinf.so Rinit.o rand.o -L/home/biocbuild/bbs-2.4-bioc/R/lib -lR
** R
** inst
** preparing package for lazy loading
** help
*** installing help indices
 >>> Building/Updating help pages for package 'RBioinf'
     Formats: text html latex example 
  Rcal                              text    html    latex   example
  S4Help                            text    html    latex   example
Note: removing empty section \examples in file 'asSimpleVector.Rd'
  asSimpleVector                    text    html    latex
  classList2Graph                   text    html    latex   example
  computeClassLinearization         text    html    latex   example
  printWithNumbers                  text    html    latex   example
  randDNA                           text    html    latex   example
  simplePVect                       text    html    latex   example
  simpleRand                        text    html    latex   example
  simpleSort                        text    html    latex   example
  subClassNames                     text    html    latex   example
  superClasses                      text    html    latex   example
  traceMethods                      text    html    latex   example
** building package indices ...
* DONE (RBioinf)
* creating vignettes ... OK
* cleaning src
* removing junk files
* checking for LF line-endings in source and make files
* checking for empty or unneeded directories
* building 'RBioinf_1.4.0.tar.gz'