MantelCorr 1.14.0 Brian Steinmeyer
 | Bioconductor Changelog |  | Snapshot Date: 2009-10-20 11:27:33 -0700 (Tue, 20 Oct 2009) |  | URL: https://hedgehog.fhcrc.org/bioconductor/branches/RELEASE_2_4/madman/Rpacks/MantelCorr |  | Last Changed Rev: 39013 / Revision: 42512 |  | Last Changed Date: 2009-04-20 16:24:12 -0700 (Mon, 20 Apr 2009) |  
  | wilson1  | Linux (openSUSE 11.1) / x86_64  | [ OK ] |  OK  |  | 
| liverpool  | Windows Server 2003 R2 (32-bit) / x64  |  OK  |  OK  |  OK  | 
| pitt  | Mac OS X Tiger (10.4.11) / i386  |  OK  |  OK  |  OK  | 
| pelham  | Mac OS X Leopard (10.5.8) / i386  |  OK  |  OK  |  OK  | 
* checking for file 'MantelCorr/DESCRIPTION' ... OK
* preparing 'MantelCorr':
* checking DESCRIPTION meta-information ... OK
* installing the package to re-build vignettes
* Installing *source* package 'MantelCorr' ...
** R
** data
** inst
** preparing package for lazy loading
** help
*** installing help indices
 >>> Building/Updating help pages for package 'MantelCorr'
     Formats: text html latex example 
  ClusterGeneList                   text    html    latex   example
  ClusterList                       text    html    latex   example
  DistMatrices                      text    html    latex   example
  GetClusters                       text    html    latex   example
  GolubTrain                        text    html    latex   example
  MantelCorrs                       text    html    latex   example
  PermutationTest                   text    html    latex   example
** building package indices ...
* DONE (MantelCorr)
* creating vignettes ... OK
* removing junk files
* checking for LF line-endings in source and make files
* checking for empty or unneeded directories
* building 'MantelCorr_1.14.0.tar.gz'