HilbertVis 1.2.0 Simon Anders
 | Bioconductor Changelog |  | Snapshot Date: 2009-10-20 11:27:33 -0700 (Tue, 20 Oct 2009) |  | URL: https://hedgehog.fhcrc.org/bioconductor/branches/RELEASE_2_4/madman/Rpacks/HilbertVis |  | Last Changed Rev: 39013 / Revision: 42512 |  | Last Changed Date: 2009-04-20 16:24:12 -0700 (Mon, 20 Apr 2009) |  
  | wilson1  | Linux (openSUSE 11.1) / x86_64  | [ OK ] |  OK  |  | 
| liverpool  | Windows Server 2003 R2 (32-bit) / x64  |  OK  |  OK  |  OK  | 
| pitt  | Mac OS X Tiger (10.4.11) / i386  |  OK  |  OK  |  OK  | 
| pelham  | Mac OS X Leopard (10.5.8) / i386  |  OK  |  OK  |  OK  | 
* checking for file 'HilbertVis/DESCRIPTION' ... OK
* preparing 'HilbertVis':
* checking DESCRIPTION meta-information ... OK
* cleaning src
* installing the package to re-build vignettes
* Installing *source* package 'HilbertVis' ...
** libs
gcc -std=gnu99 -I/home/biocbuild/bbs-2.4-bioc/R/include  -I/usr/local/include    -fpic  -g -O2 -Wall -c hilbert.c -o hilbert.o
gcc -std=gnu99 -I/home/biocbuild/bbs-2.4-bioc/R/include  -I/usr/local/include    -fpic  -g -O2 -Wall -c make_wiggle_vector.c -o make_wiggle_vector.o
gcc -std=gnu99 -I/home/biocbuild/bbs-2.4-bioc/R/include  -I/usr/local/include    -fpic  -g -O2 -Wall -c shrink_vector.c -o shrink_vector.o
gcc -std=gnu99 -shared -L/usr/local/lib64 -o HilbertVis.so hilbert.o make_wiggle_vector.o shrink_vector.o -L/home/biocbuild/bbs-2.4-bioc/R/lib -lR
** R
** inst
** preparing package for lazy loading
** help
*** installing help indices
 >>> Building/Updating help pages for package 'HilbertVis'
     Formats: text html latex example 
  hilbertCurve                      text    html    latex   example
  hilbertImage                      text    html    latex   example
  makeRandomTestData                text    html    latex   example
  makeWiggleVector                  text    html    latex   example
  plotHilbertCurve                  text    html    latex   example
  plotLongVector                    text    html    latex   example
  showHilbertImage                  text    html    latex   example
  shrinkVector                      text    html    latex   example
** building package indices ...
* DONE (HilbertVis)
* creating vignettes ... OK
* cleaning src
* removing junk files
* checking for LF line-endings in source and make files
* checking for empty or unneeded directories
* building 'HilbertVis_1.2.0.tar.gz'