HEM 1.16.0 HyungJun Cho
 | Bioconductor Changelog |  | Snapshot Date: 2009-10-20 11:27:33 -0700 (Tue, 20 Oct 2009) |  | URL: https://hedgehog.fhcrc.org/bioconductor/branches/RELEASE_2_4/madman/Rpacks/HEM |  | Last Changed Rev: 39013 / Revision: 42512 |  | Last Changed Date: 2009-04-20 16:24:12 -0700 (Mon, 20 Apr 2009) |  
  | wilson1  | Linux (openSUSE 11.1) / x86_64  | [ OK ] |  OK  |  | 
| liverpool  | Windows Server 2003 R2 (32-bit) / x64  |  OK  |  OK  |  OK  | 
| pitt  | Mac OS X Tiger (10.4.11) / i386  |  OK  |  OK  |  OK  | 
| pelham  | Mac OS X Leopard (10.5.8) / i386  |  OK  |  OK  |  OK  | 
* checking for file 'HEM/DESCRIPTION' ... OK
* preparing 'HEM':
* checking DESCRIPTION meta-information ... OK
* cleaning src
* installing the package to re-build vignettes
* Installing *source* package 'HEM' ...
** libs
gcc -std=gnu99 -I/home/biocbuild/bbs-2.4-bioc/R/include  -I/usr/local/include    -fpic  -g -O2 -Wall -c hem.c -o hem.o
gcc -std=gnu99 -shared -L/usr/local/lib64 -o HEM.so hem.o -L/home/biocbuild/bbs-2.4-bioc/R/lib -lR
** R
** data
** inst
** preparing package for lazy loading
Welcome to Bioconductor
  Vignettes contain introductory material. To view, type
  'openVignette()'. To cite Bioconductor, see
  'citation("Biobase")' and for packages 'citation(pkgname)'.
** help
*** installing help indices
 >>> Building/Updating help pages for package 'HEM'
     Formats: text html latex example 
  am.tran                           text    html    latex
  am.tran.half                      text    html    latex
  base.ASE.Olig                     text    html    latex
  base.PSE.Olig                     text    html    latex
  base.error.Olig                   text    html    latex
  base.error.Olig.quanOnly          text    html    latex
  boot.base.ASE.Olig                text    html    latex
  boot.base.PSE.Olig                text    html    latex
  boot.base.error.Olig              text    html    latex
  fixbound.predict.smooth.spline    text    html    latex
  hem                               text    html    latex   example
  hem.eb.prior                      text    html    latex   example
  hem.fdr                           text    html    latex   example
  hem.null.no                       text    html    latex
  hem.null.one                      text    html    latex
  hem.null.two                      text    html    latex
  hem.preproc                       text    html    latex   example
  mubcp                             text    html    latex
  nonpar.error.Olig                 text    html    latex
  nonpar.no.error.Olig              text    html    latex
  nonpar.rep.error.Olig             text    html    latex
  par.error.Olig                    text    html    latex
  par.no.error.Olig                 text    html    latex
  par.rep.error.Olig                text    html    latex
  pbrain                            text    html    latex
  permut                            text    html    latex
  quant.norm                        text    html    latex
  quant.normal                      text    html    latex
  quant.normal2                     text    html    latex
  quant.normalize                   text    html    latex
  remove.sig.genes                  text    html    latex
** building package indices ...
* DONE (HEM)
* creating vignettes ... OK
* cleaning src
* removing junk files
* checking for LF line-endings in source and make files
* checking for empty or unneeded directories
* building 'HEM_1.16.0.tar.gz'