GOSemSim 1.2.0 Guangchuang Yu
 | Bioconductor Changelog |  | Snapshot Date: 2009-10-20 11:27:33 -0700 (Tue, 20 Oct 2009) |  | URL: https://hedgehog.fhcrc.org/bioconductor/branches/RELEASE_2_4/madman/Rpacks/GOSemSim |  | Last Changed Rev: 39013 / Revision: 42512 |  | Last Changed Date: 2009-04-20 16:24:12 -0700 (Mon, 20 Apr 2009) |  
  | wilson1  | Linux (openSUSE 11.1) / x86_64  | [ OK ] |  OK  |  | 
| liverpool  | Windows Server 2003 R2 (32-bit) / x64  |  OK  |  OK  |  OK  | 
| pitt  | Mac OS X Tiger (10.4.11) / i386  |  OK  |  OK  |  OK  | 
| pelham  | Mac OS X Leopard (10.5.8) / i386  |  OK  |  OK  |  OK  | 
* checking for file 'GOSemSim/DESCRIPTION' ... OK
* preparing 'GOSemSim':
* checking DESCRIPTION meta-information ... OK
* installing the package to re-build vignettes
* Installing *source* package 'GOSemSim' ...
** R
** data
** inst
** preparing package for lazy loading
Loading required package: Biobase
Welcome to Bioconductor
  Vignettes contain introductory material. To view, type
  'openVignette()'. To cite Bioconductor, see
  'citation("Biobase")' and for packages 'citation(pkgname)'.
Loading required package: DBI
** help
*** installing help indices
 >>> Building/Updating help pages for package 'GOSemSim'
     Formats: text html latex example 
  GOSemSim-package                  text    html    latex
  IC                                text    html    latex
  clusterSim                        text    html    latex   example
  geneSim                           text    html    latex   example
  goSim                             text    html    latex   example
  mclusterSim                       text    html    latex   example
  mgeneSim                          text    html    latex   example
  mgoSim                            text    html    latex   example
** building package indices ...
* DONE (GOSemSim)
* creating vignettes ... OK
* removing junk files
* checking for LF line-endings in source and make files
* checking for empty or unneeded directories
* building 'GOSemSim_1.2.0.tar.gz'