GEOquery 2.8.0 Sean Davis
 | Bioconductor Changelog |  | Snapshot Date: 2009-10-20 11:27:33 -0700 (Tue, 20 Oct 2009) |  | URL: https://hedgehog.fhcrc.org/bioconductor/branches/RELEASE_2_4/madman/Rpacks/GEOquery |  | Last Changed Rev: 39013 / Revision: 42512 |  | Last Changed Date: 2009-04-20 16:24:12 -0700 (Mon, 20 Apr 2009) |  
  | wilson1  | Linux (openSUSE 11.1) / x86_64  |  ERROR  |  skipped  |  | 
| liverpool  | Windows Server 2003 R2 (32-bit) / x64  | [ OK ] |  OK  |  OK  | 
| pitt  | Mac OS X Tiger (10.4.11) / i386  |  OK  |  OK  |  OK  | 
| pelham  | Mac OS X Leopard (10.5.8) / i386  |  OK  |  OK  |  OK  | 
* checking for file 'GEOquery/DESCRIPTION' ... OK
* preparing 'GEOquery':
* checking DESCRIPTION meta-information ... OK
* installing the package to re-build vignettes
* Installing *source* package 'GEOquery' ...
** R
** inst
** preparing package for lazy loading
Welcome to Bioconductor
  Vignettes contain introductory material. To view, type
  'openVignette()'. To cite Bioconductor, see
  'citation("Biobase")' and for packages 'citation(pkgname)'.
Loading required package: bitops
** help
*** installing help indices
 >>> Building/Updating help pages for package 'GEOquery'
     Formats: text html latex example chm 
  GDS-class                         text    html    latex           chm
  GDS2MA                            text    html    latex   example chm
  GEOData-class                     text    html    latex           chm
  GEODataTable-class                text    html    latex           chm
  GPL-class                         text    html    latex           chm
  GSE-class                         text    html    latex           chm
  GSM-class                         text    html    latex           chm
Note: removing empty section \usage in file 'dataTable.Rd'
Note: removing empty section \details in file 'dataTable.Rd'
Note: removing empty section \arguments in file 'dataTable.Rd'
Note: removing empty section \usage in file 'dataTable.Rd'
Note: removing empty section \details in file 'dataTable.Rd'
Note: removing empty section \arguments in file 'dataTable.Rd'
  dataTable                         text    html    latex           chm
  getGEO                            text    html    latex   example chm
  getGEOSuppFiles                   text    html    latex   example chm
  getGEOfile                        text    html    latex   example chm
  gunzip                            text    html    latex           chm
  parseGEO                          text    html    latex           chm
Microsoft HTML Help Compiler 4.74.8702
Compiling e:\biocbld\bbs-2.4-bioc\meat\GEOquery\chm\GEOquery.chm
Compile time: 0 minutes, 1 second
14	Topics
65	Local links
1	Internet link
1	Graphic
Created e:\biocbld\bbs-2.4-bioc\meat\GEOquery\chm\GEOquery.chm, 32,297 bytes
Compression decreased file by 15,891 bytes.
** building package indices ...
** MD5 sums
* DONE (GEOquery)
* creating vignettes ... OK
* removing junk files
* checking for LF line-endings in source and make files
* checking for empty or unneeded directories
* building 'GEOquery_2.8.0.tar.gz'