ChemmineR 1.4.0 Y. Eddie Cao
 | Bioconductor Changelog |  | Snapshot Date: 2009-10-20 11:27:33 -0700 (Tue, 20 Oct 2009) |  | URL: https://hedgehog.fhcrc.org/bioconductor/branches/RELEASE_2_4/madman/Rpacks/ChemmineR |  | Last Changed Rev: 39013 / Revision: 42512 |  | Last Changed Date: 2009-04-20 16:24:12 -0700 (Mon, 20 Apr 2009) |  
  | wilson1  | Linux (openSUSE 11.1) / x86_64  | [ OK ] |  OK  |  | 
| liverpool  | Windows Server 2003 R2 (32-bit) / x64  |  OK  |  OK  |  OK  | 
| pitt  | Mac OS X Tiger (10.4.11) / i386  |  OK  |  OK  |  OK  | 
| pelham  | Mac OS X Leopard (10.5.8) / i386  |  OK  |  OK  |  OK  | 
* checking for file 'ChemmineR/DESCRIPTION' ... OK
* preparing 'ChemmineR':
* checking DESCRIPTION meta-information ... OK
* installing the package to re-build vignettes
* Installing *source* package 'ChemmineR' ...
** R
** inst
** preparing package for lazy loading
** help
*** installing help indices
 >>> Building/Updating help pages for package 'ChemmineR'
     Formats: text html latex example 
  cluster.sizestat                  text    html    latex   example
  cluster.visualize                 text    html    latex   example
  cmp.cluster                       text    html    latex   example
  cmp.duplicated                    text    html    latex   example
  cmp.parse                         text    html    latex   example
  cmp.parse1                        text    html    latex   example
  cmp.search                        text    html    latex   example
  cmp.similarity                    text    html    latex   example
  db.explain                        text    html    latex   example
  db.subset                         text    html    latex   example
  sdf.subset                        text    html    latex   example
  sdf.visualize                     text    html    latex   example
** building package indices ...
* DONE (ChemmineR)
* creating vignettes ... OK
* removing junk files
* checking for LF line-endings in source and make files
* checking for empty or unneeded directories
* building 'ChemmineR_1.4.0.tar.gz'