BiocCaseStudies 1.6.1 Biocore Team c/o BioC user list
| Bioconductor Changelog | | Snapshot Date: 2009-10-20 11:27:33 -0700 (Tue, 20 Oct 2009) | | URL: https://hedgehog.fhcrc.org/bioconductor/branches/RELEASE_2_4/madman/Rpacks/BiocCaseStudies | | Last Changed Rev: 42115 / Revision: 42512 | | Last Changed Date: 2009-10-01 17:02:59 -0700 (Thu, 01 Oct 2009) |
| wilson1 | Linux (openSUSE 11.1) / x86_64 | [ OK ] | OK | |
| liverpool | Windows Server 2003 R2 (32-bit) / x64 | OK | OK | OK |
| pitt | Mac OS X Tiger (10.4.11) / i386 | OK | OK | OK |
| pelham | Mac OS X Leopard (10.5.8) / i386 | OK | OK | OK |