ACME 1.10.0 Sean Davis
 | Bioconductor Changelog |  | Snapshot Date: 2009-10-20 11:27:33 -0700 (Tue, 20 Oct 2009) |  | URL: https://hedgehog.fhcrc.org/bioconductor/branches/RELEASE_2_4/madman/Rpacks/ACME |  | Last Changed Rev: 39013 / Revision: 42512 |  | Last Changed Date: 2009-04-20 16:24:12 -0700 (Mon, 20 Apr 2009) |  
  | wilson1  | Linux (openSUSE 11.1) / x86_64  | [ OK ] |  OK  |  | 
| liverpool  | Windows Server 2003 R2 (32-bit) / x64  |  OK  |  OK  |  OK  | 
| pitt  | Mac OS X Tiger (10.4.11) / i386  |  OK  |  OK  |  OK  | 
| pelham  | Mac OS X Leopard (10.5.8) / i386  |  OK  |  OK  |  OK  | 
* checking for file 'ACME/DESCRIPTION' ... OK
* preparing 'ACME':
* checking DESCRIPTION meta-information ... OK
* cleaning src
* installing the package to re-build vignettes
* Installing *source* package 'ACME' ...
** libs
gcc -std=gnu99 -I/home/biocbuild/bbs-2.4-bioc/R/include  -I/usr/local/include    -fpic  -g -O2 -Wall -c windowChisq.c -o windowChisq.o
windowChisq.c: In function 'windowChisq':
windowChisq.c:58: warning: suggest parentheses around comparison in operand of &
windowChisq.c:63: warning: suggest parentheses around comparison in operand of &
windowChisq.c:21: warning: unused variable 'xa'
windowChisq.c: At top level:
windowChisq.c:86: warning: initialization from incompatible pointer type
gcc -std=gnu99 -shared -L/usr/local/lib64 -o ACME.so windowChisq.o -L/home/biocbuild/bbs-2.4-bioc/R/lib -lR
** R
** data
** inst
** preparing package for lazy loading
Creating a new generic function for "print" in "ACME"
Creating a new generic function for "plot" in "ACME"
** help
*** installing help indices
 >>> Building/Updating help pages for package 'ACME'
     Formats: text html latex example 
  aGFF-class                        text    html    latex   example
  aGFFCalc-class                    text    html    latex   example
  do.aGFF.calc                      text    html    latex   example
  example.agff                      text    html    latex   example
  findClosestGene                   text    html    latex   example
  findRegions                       text    html    latex   example
  getRefflat                        text    html    latex   example
  read.resultsGFF                   text    html    latex   example
  write.sgr                         text    html    latex   example
** building package indices ...
* DONE (ACME)
* creating vignettes ... OK
* cleaning src
* removing junk files
* checking for LF line-endings in source and make files
* checking for empty or unneeded directories
* building 'ACME_1.10.0.tar.gz'