| vsn 3.8.0 Wolfgang Huber
 
 | Bioconductor Changelog |  | Snapshot Date: 2009-04-18 11:27:48 -0700 (Sat, 18 Apr 2009) |  | URL: https://hedgehog.fhcrc.org/bioconductor/branches/RELEASE_2_3/madman/Rpacks/vsn |  | Last Changed Rev: 34811 / Revision: 38965 |  | Last Changed Date: 2008-10-21 15:32:58 -0700 (Tue, 21 Oct 2008) | 
 | wilson2 | Linux (openSUSE 11.1) / x86_64 | OK | OK |  | 
| liverpool | Windows Server 2003 R2 (32-bit) / x64 | OK | OK | [ OK ] | 
| pitt | Mac OS X Tiger (10.4.11) / i386 | OK | OK | OK | 
| pelham | Mac OS X Leopard (10.5.6) / i386 | OK | OK | OK | 
installing R.css in E:/biocbld/bbs-2.3-bioc/meat/vsn.buildbin-libdir
Using auto-selected zip options 'vsn-ZIPDATA=zip'
---------- Making package vsn ------------
  adding build stamp to DESCRIPTION
  installing NAMESPACE file and metadata
  making DLL ...
making init.d from init.c
making vsn.d from vsn.c
making vsn2.d from vsn2.c
gcc  -std=gnu99  -IE:/biocbld/bbs-2.3-bioc/R/include     -O3 -Wall  -c init.c -o init.o
gcc  -std=gnu99  -IE:/biocbld/bbs-2.3-bioc/R/include     -O3 -Wall  -c vsn.c -o vsn.o
gcc  -std=gnu99  -IE:/biocbld/bbs-2.3-bioc/R/include     -O3 -Wall  -c vsn2.c -o vsn2.o
windres --preprocessor="gcc -E -xc -DRC_INVOKED" -I E:/biocbld/bbs-2.3-bioc/R/include  -i vsn_res.rc -o vsn_res.o
gcc  -std=gnu99  -shared -s  -o vsn.dll vsn.def init.o vsn.o vsn2.o vsn_res.o  -LE:/biocbld/bbs-2.3-bioc/R/bin    -lR
  ... DLL made
  installing DLL
  installing R files
  installing inst files
  installing data files
  preparing package vsn for lazy loading
Loading required package: lattice
Loading required package: Biobase
Loading required package: tools
Welcome to Bioconductor
  Vignettes contain introductory material. To view, type
  'openVignette()'. To cite Bioconductor, see
  'citation("Biobase")' and for packages 'citation(pkgname)'.
Loading required package: affy
Loading required package: limma
Creating a new generic function for "logLik" in "vsn"
Creating a new generic function for "coef" in "vsn"
Creating a new generic function for "coefficients" in "vsn"
  installing man source files
  installing indices
  zipping data
  installing help
 >>> Building/Updating help pages for package 'vsn'
     Formats: text html latex example chm 
  class.vsn                         text    html    latex   example chm
  class.vsnInput                    text    html    latex           chm
  getIntensityMatrix                text    html    latex   example chm
  justvsn                           text    html    latex   example chm
  kidney                            text    html    latex   example chm
  lymphoma                          text    html    latex   example chm
  meanSdPlot                        text    html    latex   example chm
  normalize.AffyBatch.vsn           text    html    latex   example chm
  sagmbSimulateData                 text    html    latex   example chm
  scalingFactorTransformation       text    html    latex   example chm
  vsn-package                       text    html    latex           chm
  vsn                               text    html    latex   example chm
  vsn2                              text    html    latex   example chm
  vsn2trsf                          text    html    latex   example chm
  vsnLikelihood                     text    html    latex   example chm
  vsnPlotPar                        text    html    latex   example chm
  vsnh                              text    html    latex   example chm
Microsoft HTML Help Compiler 4.74.8702
Compiling e:\biocbld\bbs-2.3-bioc\meat\R.INSTALL.5276\vsn\chm\vsn.chm
Compile time: 0 minutes, 1 second
18	Topics
142	Local links
15	Internet links
1	Graphic
Created e:\biocbld\bbs-2.3-bioc\meat\R.INSTALL.5276\vsn\chm\vsn.chm, 56,076 bytes
Compression decreased file by 43,667 bytes.
  adding MD5 sums
packaged installation of package 'vsn' as vsn_3.8.0.zip
* DONE (vsn)