| sagenhaft 1.12.0 Tim Beissbarth
 
 | Bioconductor Changelog |  | Snapshot Date: 2009-04-18 11:27:48 -0700 (Sat, 18 Apr 2009) |  | URL: https://hedgehog.fhcrc.org/bioconductor/branches/RELEASE_2_3/madman/Rpacks/sagenhaft |  | Last Changed Rev: 34811 / Revision: 38965 |  | Last Changed Date: 2008-10-21 15:32:58 -0700 (Tue, 21 Oct 2008) | 
 | wilson2 | Linux (openSUSE 11.1) / x86_64 | OK | OK |  | 
| liverpool | Windows Server 2003 R2 (32-bit) / x64 | OK | OK | OK | 
| pitt | Mac OS X Tiger (10.4.11) / i386 | [ OK ] | OK | OK | 
| pelham | Mac OS X Leopard (10.5.6) / i386 | OK | OK | OK | 
* checking for file 'sagenhaft/DESCRIPTION' ... OK
* preparing 'sagenhaft':
* checking DESCRIPTION meta-information ... OK
* installing the package to re-build vignettes
* Installing *source* package 'sagenhaft' ...
** R
** data
** inst
** preparing package for lazy loading
Loading required package: SparseM
Package SparseM (0.79) loaded.  To cite, see citation("SparseM")
Attaching package: 'SparseM'
	The following object(s) are masked from package:stats :
	 model.response 
	The following object(s) are masked from package:base :
	 backsolve,
	 chol 
** help
 >>> Building/Updating help pages for package 'sagenhaft'
     Formats: text html latex example 
  error.correction                  text    html    latex   example
  extract.lib                       text    html    latex   example
  sage.library                      text    html    latex   example
  sage.library.comparison           text    html    latex   example
  sage.test                         text    html    latex   example
  sage.utilities                    text    html    latex   example
  sagelibrary.simulate              text    html    latex   example
** building package indices ...
* DONE (sagenhaft)
* creating vignettes ... OK
* removing junk files
* checking for LF line-endings in source and make files
* checking for empty or unneeded directories
* building 'sagenhaft_1.12.0.tar.gz'