| parody 1.0.0 VJ Carey
 
 | Bioconductor Changelog |  | Snapshot Date: 2009-04-18 11:27:48 -0700 (Sat, 18 Apr 2009) |  | URL: https://hedgehog.fhcrc.org/bioconductor/branches/RELEASE_2_3/madman/Rpacks/parody |  | Last Changed Rev: 34811 / Revision: 38965 |  | Last Changed Date: 2008-10-21 15:32:58 -0700 (Tue, 21 Oct 2008) | 
 | wilson2 | Linux (openSUSE 11.1) / x86_64 | OK | OK |  | 
| liverpool | Windows Server 2003 R2 (32-bit) / x64 | OK | OK | [ OK ] | 
| pitt | Mac OS X Tiger (10.4.11) / i386 | OK | OK | OK | 
| pelham | Mac OS X Leopard (10.5.6) / i386 | OK | OK | OK | 
installing R.css in E:/biocbld/bbs-2.3-bioc/meat/parody.buildbin-libdir
Using auto-selected zip options ''
---------- Making package parody ------------
  adding build stamp to DESCRIPTION
  installing NAMESPACE file and metadata
  installing R files
  installing inst files
  installing data files
  preparing package parody for lazy loading
Loading required package: tools
  installing man source files
  installing indices
  not zipping data
  installing help
 >>> Building/Updating help pages for package 'parody'
     Formats: text html latex example chm 
  box.scale                         text    html    latex   example chm
  bushfire                          text    html    latex   example chm
  calout.detect                     text    html    latex   example chm
Note: removing empty section \references in file 'mv.calout.detect.Rd'
Note: removing empty section \references in file 'mv.calout.detect.Rd'
  mv.calout.detect                  text    html    latex   example chm
  shorth                            text    html    latex           chm
Note: unmatched right brace in file 'tcost.Rd' on or after line 24
Note: unmatched right brace in file 'tcost.Rd' on or after line 24
  tcost                             text    html    latex   example chm
  tukeyor                           text    html    latex   example chm
Microsoft HTML Help Compiler 4.74.8702
Compiling e:\biocbld\bbs-2.3-bioc\meat\R.INSTALL.1988\parody\chm\parody.chm
Compile time: 0 minutes, 0 seconds
8	Topics
19	Local links
0	Internet links
1	Graphic
Created e:\biocbld\bbs-2.3-bioc\meat\R.INSTALL.1988\parody\chm\parody.chm, 25,247 bytes
Compression decreased file by 1,186 bytes.
  adding MD5 sums
packaged installation of package 'parody' as parody_1.0.0.zip
* DONE (parody)