| multiscan 1.2.0 Mizanur Khondoker
 
 | Bioconductor Changelog |  | Snapshot Date: 2009-04-18 11:27:48 -0700 (Sat, 18 Apr 2009) |  | URL: https://hedgehog.fhcrc.org/bioconductor/branches/RELEASE_2_3/madman/Rpacks/multiscan |  | Last Changed Rev: 34811 / Revision: 38965 |  | Last Changed Date: 2008-10-21 15:32:58 -0700 (Tue, 21 Oct 2008) | 
 | wilson2 | Linux (openSUSE 11.1) / x86_64 | OK | OK |  | 
| liverpool | Windows Server 2003 R2 (32-bit) / x64 | OK | OK | [ OK ] | 
| pitt | Mac OS X Tiger (10.4.11) / i386 | OK | OK | OK | 
| pelham | Mac OS X Leopard (10.5.6) / i386 | OK | OK | OK | 
installing R.css in E:/biocbld/bbs-2.3-bioc/meat/multiscan.buildbin-libdir
Using auto-selected zip options ''
---------- Making package multiscan ------------
  adding build stamp to DESCRIPTION
  installing NAMESPACE file and metadata
  making DLL ...
making multiscan.d from multiscan.c
gcc  -std=gnu99  -IE:/biocbld/bbs-2.3-bioc/R/include     -O3 -Wall  -c multiscan.c -o multiscan.o
windres --preprocessor="gcc -E -xc -DRC_INVOKED" -I E:/biocbld/bbs-2.3-bioc/R/include  -i multiscan_res.rc -o multiscan_res.o
gcc  -std=gnu99  -shared -s  -o multiscan.dll multiscan.def multiscan.o multiscan_res.o  -LE:/biocbld/bbs-2.3-bioc/R/bin    -lR
  ... DLL made
  installing DLL
  installing R files
  installing inst files
  installing data files
  preparing package multiscan for lazy loading
  installing man source files
  installing indices
  not zipping data
  installing help
 >>> Building/Updating help pages for package 'multiscan'
     Formats: text html latex example chm 
  multiscan                         text    html    latex   example chm
  murine                            text    html    latex           chm
  plot.multiscan                    text    html    latex   example chm
Microsoft HTML Help Compiler 4.74.8702
Compiling e:\biocbld\bbs-2.3-bioc\meat\R.INSTALL.5704\multiscan\chm\multiscan.chm
Compile time: 0 minutes, 2 seconds
4	Topics
8	Local links
0	Internet links
1	Graphic
Created e:\biocbld\bbs-2.3-bioc\meat\R.INSTALL.5704\multiscan\chm\multiscan.chm, 24,256 bytes
Compression increased file by 4,010 bytes.
  adding MD5 sums
packaged installation of package 'multiscan' as multiscan_1.2.0.zip
* DONE (multiscan)