| microRNA 1.0.0 Robert Gentleman
 
 | Bioconductor Changelog |  | Snapshot Date: 2009-04-18 11:27:48 -0700 (Sat, 18 Apr 2009) |  | URL: https://hedgehog.fhcrc.org/bioconductor/branches/RELEASE_2_3/madman/Rpacks/microRNA |  | Last Changed Rev: 34811 / Revision: 38965 |  | Last Changed Date: 2008-10-21 15:32:58 -0700 (Tue, 21 Oct 2008) | 
 | wilson2 | Linux (openSUSE 11.1) / x86_64 | OK | OK |  | 
| liverpool | Windows Server 2003 R2 (32-bit) / x64 | OK | [ OK ] | OK | 
| pitt | Mac OS X Tiger (10.4.11) / i386 | OK | OK | OK | 
| pelham | Mac OS X Leopard (10.5.6) / i386 | OK | OK | OK | 
* checking for working pdflatex ... OK
* using log directory 'E:/biocbld/bbs-2.3-bioc/meat/microRNA.Rcheck'
* using R version 2.8.1 (2008-12-22)
* using session charset: ISO8859-1
* checking for file 'microRNA/DESCRIPTION' ... OK
* this is package 'microRNA' version '1.0.0'
* checking package name space information ... OK
* checking package dependencies ... OK
* checking if this is a source package ... OK
* checking whether package 'microRNA' can be installed ... OK
* checking package directory ... OK
* checking for portable file names ... OK
* checking DESCRIPTION meta-information ... OK
* checking top-level files ... OK
* checking index information ... OK
* checking package subdirectories ... OK
* checking R files for non-ASCII characters ... OK
* checking R files for syntax errors ... OK
* checking whether the package can be loaded ... OK
* checking whether the package can be loaded with stated dependencies ... OK
* checking whether the name space can be loaded with stated dependencies ... OK
* checking for unstated dependencies in R code ... OK
* checking S3 generic/method consistency ... OK
* checking replacement functions ... OK
* checking foreign function calls ... OK
* checking R code for possible problems ... OK
* checking Rd files ... OK
* checking Rd cross-references ... OK
* checking for missing documentation entries ... OK
* checking for code/documentation mismatches ... OK
* checking Rd \usage sections ... OK
* checking data for non-ASCII characters ... OK
* creating microRNA-Ex.R ... OK
* checking examples ... OK
* creating microRNA-manual.tex ... OK
* checking microRNA-manual.tex using pdflatex ... OK
 
installing R.css in E:/biocbld/bbs-2.3-bioc/meat/microRNA.Rcheck
---------- Making package microRNA ------------
  adding build stamp to DESCRIPTION
  installing NAMESPACE file and metadata
  installing R files
  installing inst files
  installing data files
  preparing package microRNA for lazy loading
Loading required package: matchprobes
Loading required package: Biobase
Loading required package: tools
Welcome to Bioconductor
  Vignettes contain introductory material. To view, type
  'openVignette()'. To cite Bioconductor, see
  'citation("Biobase")' and for packages 'citation(pkgname)'.
Loading required package: affy
Loading required package: Rlibstree
  installing man source files
  installing indices
  not zipping data
  installing help
 >>> Building/Updating help pages for package 'microRNA'
     Formats: text html latex example chm 
  RNA2DNA                           text    html    latex   example chm
Note: ignoring empty \keyword entries in file 'get_selfhyb_subseq.Rd'
Note: ignoring empty \keyword entries in file 'get_selfhyb_subseq.Rd'
  get_selfhyb_subseq                text    html    latex   example chm
  hsSeqs                            text    html    latex   example chm
  hsTargets                         text    html    latex   example chm
  matchSeeds                        text    html    latex   example chm
  mmSeqs                            text    html    latex   example chm
  mmTargets                         text    html    latex   example chm
  s3utr                             text    html    latex   example chm
  seedRegions                       text    html    latex   example chm
Microsoft HTML Help Compiler 4.74.8702
Compiling e:\biocbld\bbs-2.3-bioc\meat\microRNA.Rcheck\00_pkg_src\microRNA\chm\microRNA.chm
Compile time: 0 minutes, 0 seconds
10	Topics
21	Local links
4	Internet links
1	Graphic
Created e:\biocbld\bbs-2.3-bioc\meat\microRNA.Rcheck\00_pkg_src\microRNA\chm\microRNA.chm, 23,759 bytes
Compression decreased file by 3,773 bytes.
  adding MD5 sums
* DONE (microRNA)