| ecolitk 1.14.0 Laurent
 
 | Bioconductor Changelog |  | Snapshot Date: 2009-04-18 11:27:48 -0700 (Sat, 18 Apr 2009) |  | URL: https://hedgehog.fhcrc.org/bioconductor/branches/RELEASE_2_3/madman/Rpacks/ecolitk |  | Last Changed Rev: 34811 / Revision: 38965 |  | Last Changed Date: 2008-10-21 15:32:58 -0700 (Tue, 21 Oct 2008) | 
 | wilson2 | Linux (openSUSE 11.1) / x86_64 | OK | OK |  | 
| liverpool | Windows Server 2003 R2 (32-bit) / x64 | OK | OK | OK | 
| pitt | Mac OS X Tiger (10.4.11) / i386 | [ OK ] | OK | OK | 
| pelham | Mac OS X Leopard (10.5.6) / i386 | OK | OK | OK | 
* checking for file 'ecolitk/DESCRIPTION' ... OK
* preparing 'ecolitk':
* checking DESCRIPTION meta-information ... OK
* installing the package to re-build vignettes
* Installing *source* package 'ecolitk' ...
** R
** data
** inst
** preparing package for lazy loading
Loading required package: affy
Loading required package: Biobase
Loading required package: tools
Welcome to Bioconductor
  Vignettes contain introductory material. To view, type
  'openVignette()'. To cite Bioconductor, see
  'citation("Biobase")' and for packages 'citation(pkgname)'.
Loading required package: ecoliLeucine
Loading required package: ecolicdf
** help
 >>> Building/Updating help pages for package 'ecolitk'
     Formats: text html latex example 
  ecoli.data                        text    html    latex   example
  ecoligenome.operon                text    html    latex   example
  ecoligenomeBNUM                   text    html    latex
  ecoligenomeBNUM2MULTIFUN          text    html    latex
  gccontent                         text    html    latex
  linkedmultiget                    text    html    latex   example
Note: removing empty section \details in file 'multiFun.Rd'
  multiFun                          text    html    latex   example
  pointsCircle                      text    html    latex   example
Note: removing empty section \value in file 'polar2xy.Rd'
  polar2xy                          text    html    latex   example
Note: removing empty section \seealso in file 'polygonChrom.Rd'
  polygonChrom                      text    html    latex   example
Note: removing empty section \examples in file 'wstringapply.Rd'
  wstringapply                      text    html    latex
** building package indices ...
* DONE (ecolitk)
* creating vignettes ... OK
* removing junk files
* checking for LF line-endings in source and make files
* checking for empty or unneeded directories
* building 'ecolitk_1.14.0.tar.gz'