| OCplus 1.16.0 Alexander Ploner
 
 | Bioconductor Changelog |  | Snapshot Date: 2009-04-18 11:27:48 -0700 (Sat, 18 Apr 2009) |  | URL: https://hedgehog.fhcrc.org/bioconductor/branches/RELEASE_2_3/madman/Rpacks/OCplus |  | Last Changed Rev: 34811 / Revision: 38965 |  | Last Changed Date: 2008-10-21 15:32:58 -0700 (Tue, 21 Oct 2008) | 
 | wilson2 | Linux (openSUSE 11.1) / x86_64 | OK | OK |  | 
| liverpool | Windows Server 2003 R2 (32-bit) / x64 | OK | OK | [ OK ] | 
| pitt | Mac OS X Tiger (10.4.11) / i386 | OK | OK | OK | 
| pelham | Mac OS X Leopard (10.5.6) / i386 | OK | OK | OK | 
installing R.css in E:/biocbld/bbs-2.3-bioc/meat/OCplus.buildbin-libdir
Using auto-selected zip options ''
---------- Making package OCplus ------------
  adding build stamp to DESCRIPTION
  installing R files
  installing inst files
  preparing package OCplus for lazy loading
Loading required package: akima
Loading required package: multtest
Loading required package: Biobase
Loading required package: tools
Welcome to Bioconductor
  Vignettes contain introductory material. To view, type
  'openVignette()'. To cite Bioconductor, see
  'citation("Biobase")' and for packages 'citation(pkgname)'.
  installing man source files
  installing indices
  installing help
 >>> Building/Updating help pages for package 'OCplus'
     Formats: text html latex example chm 
  DrawContourlines                  text    html    latex           chm
  EOC                               text    html    latex   example chm
  FDR                               text    html    latex   example chm
  MAsim.smyth                       text    html    latex   example chm
  OCshow                            text    html    latex   example chm
  TOC                               text    html    latex   example chm
  Undocumented                      text    html    latex           chm
  average.fdr                       text    html    latex   example chm
  fdr1d                             text    html    latex   example chm
  fdr2d                             text    html    latex   example chm
  plot.FDR.result                   text    html    latex   example chm
  plot.fdr1d.result                 text    html    latex   example chm
Note: unmatched right brace in file 'plot.fdr2d.result.Rd' on or after line 43
Note: unmatched right brace in file 'plot.fdr2d.result.Rd' on or after line 43
  plot.fdr2d.result                 text    html    latex   example chm
  samplesize                        text    html    latex   example chm
  smooth1d                          text    html    latex   example chm
  summary.fdr.result                text    html    latex   example chm
  tMixture                          text    html    latex   example chm
Note: removing empty section \examples in file 'tstatistics.Rd'
Note: removing empty section \examples in file 'tstatistics.Rd'
  tstatistics                       text    html    latex           chm
Microsoft HTML Help Compiler 4.74.8702
Compiling e:\biocbld\bbs-2.3-bioc\meat\R.INSTALL.1108\OCplus\chm\OCplus.chm
Compile time: 0 minutes, 1 second
19	Topics
85	Local links
0	Internet links
1	Graphic
Created e:\biocbld\bbs-2.3-bioc\meat\R.INSTALL.1108\OCplus\chm\OCplus.chm, 65,021 bytes
Compression decreased file by 47,786 bytes.
  adding MD5 sums
packaged installation of package 'OCplus' as OCplus_1.16.0.zip
* DONE (OCplus)