| GeneTraffic 1.14.0 Daniel Iordan
 
 | Bioconductor Changelog |  | Snapshot Date: 2009-04-18 11:27:48 -0700 (Sat, 18 Apr 2009) |  | URL: https://hedgehog.fhcrc.org/bioconductor/branches/RELEASE_2_3/madman/Rpacks/GeneTraffic |  | Last Changed Rev: 34811 / Revision: 38965 |  | Last Changed Date: 2008-10-21 15:32:58 -0700 (Tue, 21 Oct 2008) | 
 | wilson2 | Linux (openSUSE 11.1) / x86_64 | OK | OK |  | 
| liverpool | Windows Server 2003 R2 (32-bit) / x64 | OK | OK | [ OK ] | 
| pitt | Mac OS X Tiger (10.4.11) / i386 | OK | OK | OK | 
| pelham | Mac OS X Leopard (10.5.6) / i386 | OK | OK | OK | 
installing R.css in E:/biocbld/bbs-2.3-bioc/meat/GeneTraffic.buildbin-libdir
Using auto-selected zip options ''
---------- Making package GeneTraffic ------------
  adding build stamp to DESCRIPTION
  installing R files
  installing inst files
  preparing package GeneTraffic for lazy loading
Loading required package: Biobase
Loading required package: tools
Welcome to Bioconductor
  Vignettes contain introductory material. To view, type
  'openVignette()'. To cite Bioconductor, see
  'citation("Biobase")' and for packages 'citation(pkgname)'.
Loading required package: affy
Loading required package: marray
Loading required package: limma
Loading required package: SSOAP
Loading required package: XML
Loading required package: RCurl
Loading required package: digest
  installing man source files
  installing indices
  installing help
 >>> Building/Updating help pages for package 'GeneTraffic'
     Formats: text html latex example chm 
  GTGetProjectList                  text    html    latex   example chm
  GTGetProjectSummary               text    html    latex   example chm
  GTLoadExpression                  text    html    latex   example chm
  GTLogin                           text    html    latex   example chm
  GTLogout                          text    html    latex   example chm
  GTServer-class                    text    html    latex   example chm
  GTServer                          text    html    latex   example chm
Microsoft HTML Help Compiler 4.74.8702
Compiling e:\biocbld\bbs-2.3-bioc\meat\R.INSTALL.4352\GeneTraffic\chm\GeneTraffic.chm
Compile time: 0 minutes, 0 seconds
8	Topics
14	Local links
0	Internet links
1	Graphic
Created e:\biocbld\bbs-2.3-bioc\meat\R.INSTALL.4352\GeneTraffic\chm\GeneTraffic.chm, 19,070 bytes
Compression decreased file by 518 bytes.
  adding MD5 sums
packaged installation of package 'GeneTraffic' as GeneTraffic_1.14.0.zip
* DONE (GeneTraffic)