| ChemmineR 1.2.0 Y. Eddie Cao
 
 | Bioconductor Changelog |  | Snapshot Date: 2009-04-18 11:27:48 -0700 (Sat, 18 Apr 2009) |  | URL: https://hedgehog.fhcrc.org/bioconductor/branches/RELEASE_2_3/madman/Rpacks/ChemmineR |  | Last Changed Rev: 34811 / Revision: 38965 |  | Last Changed Date: 2008-10-21 15:32:58 -0700 (Tue, 21 Oct 2008) | 
 | wilson2 | Linux (openSUSE 11.1) / x86_64 | OK | OK |  | 
| liverpool | Windows Server 2003 R2 (32-bit) / x64 | OK | [ OK ] | OK | 
| pitt | Mac OS X Tiger (10.4.11) / i386 | OK | OK | OK | 
| pelham | Mac OS X Leopard (10.5.6) / i386 | OK | OK | OK | 
* checking for working pdflatex ... OK
* using log directory 'E:/biocbld/bbs-2.3-bioc/meat/ChemmineR.Rcheck'
* using R version 2.8.1 (2008-12-22)
* using session charset: ISO8859-1
* checking for file 'ChemmineR/DESCRIPTION' ... OK
* checking extension type ... Package
* this is package 'ChemmineR' version '1.2.0'
* checking package name space information ... OK
* checking package dependencies ... OK
* checking if this is a source package ... OK
* checking whether package 'ChemmineR' can be installed ... OK
* checking package directory ... OK
* checking for portable file names ... OK
* checking DESCRIPTION meta-information ... OK
* checking top-level files ... OK
* checking index information ... OK
* checking package subdirectories ... OK
* checking R files for non-ASCII characters ... OK
* checking R files for syntax errors ... OK
* checking whether the package can be loaded ... OK
* checking whether the package can be loaded with stated dependencies ... OK
* checking whether the name space can be loaded with stated dependencies ... OK
* checking for unstated dependencies in R code ... OK
* checking S3 generic/method consistency ... OK
* checking replacement functions ... OK
* checking foreign function calls ... OK
* checking R code for possible problems ... OK
* checking Rd files ... OK
* checking Rd cross-references ... OK
* checking for missing documentation entries ... OK
* checking for code/documentation mismatches ... OK
* checking Rd \usage sections ... OK
* creating ChemmineR-Ex.R ... OK
* checking examples ... OK
* checking package vignettes in 'inst/doc' ... OK
* creating ChemmineR-manual.tex ... OK
* checking ChemmineR-manual.tex using pdflatex ... OK
 
installing R.css in E:/biocbld/bbs-2.3-bioc/meat/ChemmineR.Rcheck
---------- Making package ChemmineR ------------
  adding build stamp to DESCRIPTION
  installing NAMESPACE file and metadata
  installing R files
  installing inst files
  preparing package ChemmineR for lazy loading
  installing man source files
  installing indices
  installing help
 >>> Building/Updating help pages for package 'ChemmineR'
     Formats: text html latex example chm 
  cluster.sizestat                  text    html    latex   example chm
  cluster.visualize                 text    html    latex   example chm
  cmp.cluster                       text    html    latex   example chm
  cmp.duplicated                    text    html    latex   example chm
  cmp.parse                         text    html    latex   example chm
  cmp.parse1                        text    html    latex   example chm
  cmp.search                        text    html    latex   example chm
  cmp.similarity                    text    html    latex   example chm
  db.explain                        text    html    latex   example chm
  db.subset                         text    html    latex   example chm
  sdf.subset                        text    html    latex   example chm
  sdf.visualize                     text    html    latex   example chm
Microsoft HTML Help Compiler 4.74.8702
Compiling e:\biocbld\bbs-2.3-bioc\meat\ChemmineR.Rcheck\00_pkg_src\ChemmineR\chm\ChemmineR.chm
Compile time: 0 minutes, 0 seconds
13	Topics
64	Local links
2	Internet links
1	Graphic
Created e:\biocbld\bbs-2.3-bioc\meat\ChemmineR.Rcheck\00_pkg_src\ChemmineR\chm\ChemmineR.chm, 40,120 bytes
Compression decreased file by 19,680 bytes.
  adding MD5 sums
* DONE (ChemmineR)